BEGIN:VCALENDAR
VERSION:2.0
PRODID:-//I/G Winery - ECPv6.15.20//NONSGML v1.0//EN
CALSCALE:GREGORIAN
METHOD:PUBLISH
X-ORIGINAL-URL:https://igwinery.com
X-WR-CALDESC:Events for I/G Winery
REFRESH-INTERVAL;VALUE=DURATION:PT1H
X-Robots-Tag:noindex
X-PUBLISHED-TTL:PT1H
BEGIN:VTIMEZONE
TZID:America/Denver
BEGIN:DAYLIGHT
TZOFFSETFROM:-0700
TZOFFSETTO:-0600
TZNAME:MDT
DTSTART:20240310T090000
END:DAYLIGHT
BEGIN:STANDARD
TZOFFSETFROM:-0600
TZOFFSETTO:-0700
TZNAME:MST
DTSTART:20241103T080000
END:STANDARD
BEGIN:DAYLIGHT
TZOFFSETFROM:-0700
TZOFFSETTO:-0600
TZNAME:MDT
DTSTART:20250309T090000
END:DAYLIGHT
BEGIN:STANDARD
TZOFFSETFROM:-0600
TZOFFSETTO:-0700
TZNAME:MST
DTSTART:20251102T080000
END:STANDARD
BEGIN:DAYLIGHT
TZOFFSETFROM:-0700
TZOFFSETTO:-0600
TZNAME:MDT
DTSTART:20260308T090000
END:DAYLIGHT
BEGIN:STANDARD
TZOFFSETFROM:-0600
TZOFFSETTO:-0700
TZNAME:MST
DTSTART:20261101T080000
END:STANDARD
END:VTIMEZONE
BEGIN:VEVENT
DTSTART;TZID=America/Denver:20250201T180000
DTEND;TZID=America/Denver:20250201T210000
DTSTAMP:20260421T052212
CREATED:20241217T193437Z
LAST-MODIFIED:20241217T193437Z
UID:5913-1738432800-1738443600@igwinery.com
SUMMARY:Live Music - The Internationally Acclaimed Dr. Jon Yerby
DESCRIPTION:Jon is always popular when he plays here at the winery and we are grateful to have him back for a few dates in 2025.  Dr. Jon Yerby hails from Celle\, Germany and has performed across four continents and served on the faculty of five major Universities.  Yerby currently mentors rising young musical talents at Southern Utah University here in Cedar City.  Jon’s teachers and mentors are varied but include such international luminaries as Eliot Fisk and Italian legend Oscar Ghiglia.
URL:https://igwinery.com/event/live-music-the-internationally-acclaimed-dr-jon-yerby-2/
LOCATION:I/G Winery\, 59 West Center Street\, Cedar City\, UT\, 84720\, United States
CATEGORIES:Live Music
ATTACH;FMTTYPE=image/png:https://igwinery.com/wp-content/uploads/Jon-Yerby-Promo-2-1.png
ORGANIZER;CN="I/G Entertainment Production":MAILTO:info@igwinery.com
END:VEVENT
BEGIN:VEVENT
DTSTART;TZID=America/Denver:20250205T180000
DTEND;TZID=America/Denver:20250205T200000
DTSTAMP:20260421T052212
CREATED:20250120T051302Z
LAST-MODIFIED:20250120T051302Z
UID:6209-1738778400-1738785600@igwinery.com
SUMMARY:Let's Paint With Reggie
DESCRIPTION:Join Reggie here at the winery for another fun night of wine and painting.  Paint your latest creation among the tanks and barrels of our production room and enjoy a glass of wine or an amazing cocktail.  The paint nights at the winery sell quickly so get over to Let’s Paint With Reggie on Instagram or Facebook and follow the link to get your tickets.
URL:https://igwinery.com/event/lets-paint-with-reggie/
LOCATION:UT
CATEGORIES:Paint Night
ATTACH;FMTTYPE=image/png:https://igwinery.com/wp-content/uploads/Lets-Paint-2-5-25.png
END:VEVENT
BEGIN:VEVENT
DTSTART;TZID=America/Denver:20250212T180000
DTEND;TZID=America/Denver:20250212T200000
DTSTAMP:20260421T052212
CREATED:20250126T014155Z
LAST-MODIFIED:20250126T014155Z
UID:6228-1739383200-1739390400@igwinery.com
SUMMARY:Love Cookies; Cookie Decorating and Wine Night
DESCRIPTION:Come and join us for a fun\, Valentine’s themed cookie decorating class! Perfect for Valentine’s or Galentine’s alike! Come solo or bring your friends or significant other for a deliciously sweet evening. Sip some wine during this casual class where each person will work with Royal Icing as they decorate 6 Valentine’s themed sugar cookies. With step-by-step instruction\, you will be guided through the process of working with Royal Icing\, basic decorating techniques\, how to correct mistakes\, tips and tricks with cookie decorating\, and how to create fun and tasty cookies for any occasion. This is a beginner-level course and includes 6 un-decorated sugar cookies\, royal icing\, piping bags\, all sprinkles and decor\, and all tools needed to decorate the cookies. The class will conclude with the option to take Instagram-worthy photos at the themed photo booth\, and each participant will go home with their 6 decorated cookies to enjoy.
URL:https://igwinery.com/event/love-cookies-cookie-decorating-and-wine-night/
LOCATION:I/G Winery\, 59 West Center Street\, Cedar City\, UT\, 84720\, United States
CATEGORIES:Food and Wine
ATTACH;FMTTYPE=image/png:https://igwinery.com/wp-content/uploads/Love-Cookies.png
ORGANIZER;CN="Love Cookies":MAILTO:lovecookiesbakeshop@gmail.com
END:VEVENT
BEGIN:VEVENT
DTSTART;TZID=America/Denver:20250214T190000
DTEND;TZID=America/Denver:20250214T210000
DTSTAMP:20260421T052212
CREATED:20250209T005105Z
LAST-MODIFIED:20250209T005105Z
UID:6254-1739559600-1739566800@igwinery.com
SUMMARY:Courtyard Marriott Valentines Dinner with I/G Wines
DESCRIPTION:Still looking for the perfect thing to do with your special Valentine?  Well look no more…. Come join us at the Courtyard Marriott and enjoy a three-course gourmet dinner\, each course expertly paired with I/G Wines to enhance the experience. Whether you’re celebrating with a special someone or a group of friends\, this is the perfect way to indulge in the finer things in life.
URL:https://igwinery.com/event/courtyard-marriott-valentines-dinner-with-i-g-wines/
LOCATION:Courtyard by Marriott\, 1294 South Interstate Drive\, Cedar City\, UT\, 84720\, United States
CATEGORIES:Food and Wine
ATTACH;FMTTYPE=image/png:https://igwinery.com/wp-content/uploads/Valentines-Dinner-CY.png
ORGANIZER;CN="Do U Events":MAILTO:douevents.utah@gmail.com
END:VEVENT
BEGIN:VEVENT
DTSTART;TZID=America/Denver:20250215T170000
DTEND;TZID=America/Denver:20250215T190000
DTSTAMP:20260421T052212
CREATED:20250115T043146Z
LAST-MODIFIED:20250209T004305Z
UID:6204-1739638800-1739646000@igwinery.com
SUMMARY:Our Day-After Valentines Casual Dinner 2025
DESCRIPTION:Join us on Saturday February 15th for this fun night of food fun and chocolate.  We’ve got pink riesling\, fun food and some great chocolate to pair with our red wines.  To get your tickets call the winery at 435-867-9463 or stop in and get your “couples” tickets today.
URL:https://igwinery.com/event/valentines-dinner-2025/
LOCATION:UT
CATEGORIES:Food and Wine
ATTACH;FMTTYPE=image/png:https://igwinery.com/wp-content/uploads/2.png
END:VEVENT
BEGIN:VEVENT
DTSTART;TZID=America/Denver:20250228T180000
DTEND;TZID=America/Denver:20250228T210000
DTSTAMP:20260421T052212
CREATED:20241110T042319Z
LAST-MODIFIED:20241110T042520Z
UID:5766-1740765600-1740776400@igwinery.com
SUMMARY:Live Music - Luna Worldcast
DESCRIPTION:This versatile young singer/songwriter is going to unpack her acoustic guitar and set up in the winery and share her folk/bluesy/pop music with us for a very special 2 night engagement.  Luna is currently working her way through a national concert tour and we were lucky enough to convince her to stop for a couple nights in Cedar City and share her talents with everyone at the winery.  Come in and relax with a bottle of wine\, and enjoy this rare opportunity to see Luna Worldcast live and up close in the very intimate setting of I/G Winery’s tasting room.
URL:https://igwinery.com/event/live-music-luna-worldcast/
LOCATION:I/G Winery\, 59 West Center Street\, Cedar City\, UT\, 84720\, United States
CATEGORIES:Live Music
ATTACH;FMTTYPE=image/png:https://igwinery.com/wp-content/uploads/Luna-Worldcast.png
ORGANIZER;CN="I/G Entertainment Production":MAILTO:info@igwinery.com
END:VEVENT
END:VCALENDAR