BEGIN:VCALENDAR
VERSION:2.0
PRODID:-//I/G Winery - ECPv6.15.20//NONSGML v1.0//EN
CALSCALE:GREGORIAN
METHOD:PUBLISH
X-WR-CALNAME:I/G Winery
X-ORIGINAL-URL:https://igwinery.com
X-WR-CALDESC:Events for I/G Winery
REFRESH-INTERVAL;VALUE=DURATION:PT1H
X-Robots-Tag:noindex
X-PUBLISHED-TTL:PT1H
BEGIN:VTIMEZONE
TZID:America/Denver
BEGIN:DAYLIGHT
TZOFFSETFROM:-0700
TZOFFSETTO:-0600
TZNAME:MDT
DTSTART:20220313T090000
END:DAYLIGHT
BEGIN:STANDARD
TZOFFSETFROM:-0600
TZOFFSETTO:-0700
TZNAME:MST
DTSTART:20221106T080000
END:STANDARD
BEGIN:DAYLIGHT
TZOFFSETFROM:-0700
TZOFFSETTO:-0600
TZNAME:MDT
DTSTART:20230312T090000
END:DAYLIGHT
BEGIN:STANDARD
TZOFFSETFROM:-0600
TZOFFSETTO:-0700
TZNAME:MST
DTSTART:20231105T080000
END:STANDARD
BEGIN:DAYLIGHT
TZOFFSETFROM:-0700
TZOFFSETTO:-0600
TZNAME:MDT
DTSTART:20240310T090000
END:DAYLIGHT
BEGIN:STANDARD
TZOFFSETFROM:-0600
TZOFFSETTO:-0700
TZNAME:MST
DTSTART:20241103T080000
END:STANDARD
END:VTIMEZONE
BEGIN:VEVENT
DTSTART;TZID=America/Denver:20231209T180000
DTEND;TZID=America/Denver:20231209T200000
DTSTAMP:20260425T140639
CREATED:20221123T174318Z
LAST-MODIFIED:20231104T185517Z
UID:3906-1702144800-1702152000@igwinery.com
SUMMARY:Wine Club Members Only Christmas Party
DESCRIPTION:Club Members\, mark your calendars for our Wine Club Members Only Christmas party! Join us on December 3rd from 6-8 PM—we will be serving your favorite wines and small bites\, there will be some fun giveaways\, and the opportunity to meet new people! This event is complimentary (and exclusive) to our club members. We hope to see you there! \nIf you are not yet a wine club member\, sign up today so that you don’t miss out on this exciting event.
URL:https://igwinery.com/event/wine-club-members-only-christmas-party/
LOCATION:I/G Winery\, 59 West Center Street\, Cedar City\, UT\, 84720\, United States
END:VEVENT
END:VCALENDAR