BEGIN:VCALENDAR
VERSION:2.0
PRODID:-//I/G Winery - ECPv6.15.20//NONSGML v1.0//EN
CALSCALE:GREGORIAN
METHOD:PUBLISH
X-WR-CALNAME:I/G Winery
X-ORIGINAL-URL:https://igwinery.com
X-WR-CALDESC:Events for I/G Winery
REFRESH-INTERVAL;VALUE=DURATION:PT1H
X-Robots-Tag:noindex
X-PUBLISHED-TTL:PT1H
BEGIN:VTIMEZONE
TZID:America/Denver
BEGIN:DAYLIGHT
TZOFFSETFROM:-0700
TZOFFSETTO:-0600
TZNAME:MDT
DTSTART:20240310T090000
END:DAYLIGHT
BEGIN:STANDARD
TZOFFSETFROM:-0600
TZOFFSETTO:-0700
TZNAME:MST
DTSTART:20241103T080000
END:STANDARD
BEGIN:DAYLIGHT
TZOFFSETFROM:-0700
TZOFFSETTO:-0600
TZNAME:MDT
DTSTART:20250309T090000
END:DAYLIGHT
BEGIN:STANDARD
TZOFFSETFROM:-0600
TZOFFSETTO:-0700
TZNAME:MST
DTSTART:20251102T080000
END:STANDARD
BEGIN:DAYLIGHT
TZOFFSETFROM:-0700
TZOFFSETTO:-0600
TZNAME:MDT
DTSTART:20260308T090000
END:DAYLIGHT
BEGIN:STANDARD
TZOFFSETFROM:-0600
TZOFFSETTO:-0700
TZNAME:MST
DTSTART:20261101T080000
END:STANDARD
BEGIN:DAYLIGHT
TZOFFSETFROM:-0700
TZOFFSETTO:-0600
TZNAME:MDT
DTSTART:20270314T090000
END:DAYLIGHT
BEGIN:STANDARD
TZOFFSETFROM:-0600
TZOFFSETTO:-0700
TZNAME:MST
DTSTART:20271107T080000
END:STANDARD
END:VTIMEZONE
BEGIN:VEVENT
DTSTART;TZID=America/Denver:20251213T190000
DTEND;TZID=America/Denver:20251213T220000
DTSTAMP:20260421T115832
CREATED:20251021T000447Z
LAST-MODIFIED:20251021T000447Z
UID:6630-1765652400-1765663200@igwinery.com
SUMMARY:Live Music - Mark Boggs
DESCRIPTION:Mark Boggs is a Southern Utah musician who preforms as both a solo artist and with a popular local band called The Relics; a quartet of veteran musicians performing an eclectic mix of classic rock\, blues\, soul and country. In his solo performances\, Mark stays true to that theme and brings to the winery solo versions of those same great genres.
URL:https://igwinery.com/event/live-music-mark-boggs-2/
LOCATION:I/G Winery\, 59 West Center Street\, Cedar City\, UT\, 84720\, United States
CATEGORIES:Live Music
ATTACH;FMTTYPE=image/png:https://igwinery.com/wp-content/uploads/Mark-Boggs-At-The-Winery-Dec.png
ORGANIZER;CN="I/G Entertainment Production":MAILTO:info@igwinery.com
END:VEVENT
BEGIN:VEVENT
DTSTART;TZID=America/Denver:20251219T180000
DTEND;TZID=America/Denver:20251219T203000
DTSTAMP:20260421T115832
CREATED:20251201T210810Z
LAST-MODIFIED:20251218T040854Z
UID:6682-1766167200-1766176200@igwinery.com
SUMMARY:I/G Winery Christmas Dinner
DESCRIPTION:Join us for a festive evening out at the beautiful Heather Hill Farm for a holiday celebration of great food and great wine. the evening kicks off with amazing charcuterie and wine as chat with friends and get settled in. Next let us serve you a wonderful winter salad\, followed by Chef Aaron’s world famous Coq-a-vin with all the holiday sides. We will finish up with an invitation to visit the dessert table and try a special collection of gourmet desserts.  Oh\, it goes without saying that in any I/G Dinner like this each course will be paired with the perfect I/g wine\, sure to bring out the best in the food\, and the best if evening celebrations.  Get your tickets today before they are all gone.  Merry Christmas\, Happy Holidays to everyone!  We hope to celebrate this special time of year with all of you.
URL:https://igwinery.com/event/i-g-winery-christmas-dinner/
LOCATION:Heather Hill Farm\, 2027 E Midvalley Rd.\, Enoch\, UT\, 84721\, United States
CATEGORIES:Food and Wine,Special Event,Wine Club Member Event
ATTACH;FMTTYPE=image/png:https://igwinery.com/wp-content/uploads/2025-Christmas-Party-Email-Attachment.png
ORGANIZER;CN="I/G Entertainment Production":MAILTO:info@igwinery.com
END:VEVENT
BEGIN:VEVENT
DTSTART;TZID=America/Denver:20260103T190000
DTEND;TZID=America/Denver:20260103T220000
DTSTAMP:20260421T115832
CREATED:20251231T181616Z
LAST-MODIFIED:20251231T181616Z
UID:6754-1767466800-1767477600@igwinery.com
SUMMARY:Live Music - Cedar Jazz Project
DESCRIPTION:Come join us for Cedar City’s very own jazz band as they share a collection of great jazz selections from the past\, the present and what they believe is the future of jazz.  I/G Winery is all about jazz music and so is the Cedar Jazz Project.  Don’t miss the chance to come in\, enjoy some great wines\, cocktails or mocktails as listen to the smooth sounds of CJP.
URL:https://igwinery.com/event/live-music-cedar-jazz-project-2/
LOCATION:I/G Winery\, 59 West Center Street\, Cedar City\, UT\, 84720\, United States
CATEGORIES:Live Music
ATTACH;FMTTYPE=image/png:https://igwinery.com/wp-content/uploads/Cedar-Jazz-Project-2.png
ORGANIZER;CN="I/G Entertainment Production":MAILTO:info@igwinery.com
END:VEVENT
BEGIN:VEVENT
DTSTART;TZID=America/Denver:20260107T180000
DTEND;TZID=America/Denver:20260107T200000
DTSTAMP:20260421T115832
CREATED:20250619T002920Z
LAST-MODIFIED:20251231T175308Z
UID:6430-1767808800-1767816000@igwinery.com
SUMMARY:Paint & Sip - Let's Paint with Reggie
DESCRIPTION:Join Reggie here at the winery for another fun night of wine and painting.  Paint your latest creation among the tanks and barrels of our production room and enjoy a glass of wine\, an amazing cocktail or an outstanding mocktail.  The paint nights at the winery sell quickly so get over to Let’s Paint With Reggie on Instagram or Facebook and follow the link to get your tickets.
URL:https://igwinery.com/event/paint-sip-lets-paint-with-reggie/
LOCATION:I/G Winery\, 59 West Center Street\, Cedar City\, UT\, 84720\, United States
CATEGORIES:Paint Night
ATTACH;FMTTYPE=image/png:https://igwinery.com/wp-content/uploads/Lets-Paint-with-Reggie-4.png
END:VEVENT
BEGIN:VEVENT
DTSTART;TZID=America/Denver:20260110T140000
DTEND;TZID=America/Denver:20260110T163000
DTSTAMP:20260421T115832
CREATED:20251231T055534Z
LAST-MODIFIED:20260110T012831Z
UID:6745-1768053600-1768062600@igwinery.com
SUMMARY:Whiskey Tasting with High West Distillery
DESCRIPTION:Join Jared Anderson of High West Distillery for a guided tasting of four High West whiskeys\, each thoughtfully paired with small bites. The experience begins with a welcome cocktail\, followed by an exploration of flavor profiles\, tasting notes\, and the story behind each whiskey. \nPerfect for whiskey lovers and the whiskey-curious alike.
URL:https://igwinery.com/event/whiskey-tasting-with-high-west-distillery/
LOCATION:I/G Winery\, 59 West Center Street\, Cedar City\, UT\, 84720\, United States
ATTACH;FMTTYPE=image/jpeg:https://igwinery.com/wp-content/uploads/tasting.jpg
END:VEVENT
BEGIN:VEVENT
DTSTART;TZID=America/Denver:20260110T170000
DTEND;TZID=America/Denver:20260110T193000
DTSTAMP:20260421T115832
CREATED:20251231T060025Z
LAST-MODIFIED:20251231T060025Z
UID:6749-1768064400-1768073400@igwinery.com
SUMMARY:Cocktail Class with High West Distillery
DESCRIPTION:Begin with a welcome cocktail\, then join Jared Anderson of High West Distillery for a hands-on cocktail class featuring three whiskey cocktails made with High West spirits. Learn essential techniques\, flavor balancing\, and insider tips while crafting and enjoying each drink. \nPerfect for all experience levels.
URL:https://igwinery.com/event/cocktail-class-with-high-west-distillery/
LOCATION:I/G Winery\, 59 West Center Street\, Cedar City\, UT\, 84720\, United States
ATTACH;FMTTYPE=image/jpeg:https://igwinery.com/wp-content/uploads/Cocktail-class.jpg
END:VEVENT
BEGIN:VEVENT
DTSTART;TZID=America/Denver:20260117T190000
DTEND;TZID=America/Denver:20260117T220000
DTSTAMP:20260421T115832
CREATED:20250619T222149Z
LAST-MODIFIED:20260102T004438Z
UID:6438-1768676400-1768687200@igwinery.com
SUMMARY:Live Music - Sky Allen
DESCRIPTION:Sky Allen Ledesma is an American songwriter with music that ranges from acoustic singer songwriter\, neo soul\, reggae\, blues\, rock\, etc. With influences like Van Morrison\, Paul Simon\, Sublime\, Bill Withers\, and Bob Marley to name a few. Sky has been playing music all over the nation for almost 20 years. Currently residing in Southern Utah\, Sky plays everything from looping to make a full band sound\, or a quiet acoustic set.  Come join us for a night you’re sure to enjoy.
URL:https://igwinery.com/event/live-music-sky-allen/
LOCATION:I/G Winery\, 59 West Center Street\, Cedar City\, UT\, 84720\, United States
CATEGORIES:Live Music
ATTACH;FMTTYPE=image/png:https://igwinery.com/wp-content/uploads/SKY-ALLEN-.png
ORGANIZER;CN="I/G Entertainment Production":MAILTO:info@igwinery.com
END:VEVENT
BEGIN:VEVENT
DTSTART;TZID=America/Denver:20260120T180000
DTEND;TZID=America/Denver:20260120T200000
DTSTAMP:20260421T115833
CREATED:20250801T204245Z
LAST-MODIFIED:20260106T184241Z
UID:6501-1768932000-1768939200@igwinery.com
SUMMARY:Wine & Cookie Decorating Night
DESCRIPTION:The only event you will find that gives you permission to do two of your favorite things at the same time; drink wine and eat cookies! Come and join us for this fun cookie decorating class!  Bring yourself or bring your friends for a deliciously sweet evening. Sip some wine\, a cocktail or a mocktail during this casual class where each person will work with Royal Icing as they decorate 6 specially chosen sugar cookies. With step-by-step instruction\, you will be guided through the process of working with Royal Icing\, basic decorating techniques\, how to correct mistakes\, tips and tricks with cookie decorating\, and how to create fun and tasty cookies for any occasion. This is a beginner-level course and includes 6 un-decorated sugar cookies\, royal icing\, piping bags\, all sprinkles and decor\, and all tools needed to decorate the cookies. The class will conclude with the option to take Instagram-worthy photos and each participant will go home with their 6 decorated cookies to enjoy.
URL:https://igwinery.com/event/wine-cookie-decorating-night/
LOCATION:I/G Winery\, 59 West Center Street\, Cedar City\, UT\, 84720\, United States
CATEGORIES:Cookie Decorating & Wine,Food and Wine
ATTACH;FMTTYPE=image/jpeg:https://igwinery.com/wp-content/uploads/Love-Cookies-January.jpg
ORGANIZER;CN="Love Cookies":MAILTO:lovecookiesbakeshop@gmail.com
END:VEVENT
BEGIN:VEVENT
DTSTART;TZID=America/Denver:20260121T180000
DTEND;TZID=America/Denver:20260121T200000
DTSTAMP:20260421T115833
CREATED:20251221T034407Z
LAST-MODIFIED:20260113T193237Z
UID:6725-1769018400-1769025600@igwinery.com
SUMMARY:Glass Coaster Making Class
DESCRIPTION:Join us for a Glass Coaster Making Class with artist Carrie Trenholm\, where you’ll design your own glass coaster in a fun\, hands-on workshop. No experience needed—all materials are provided. Enjoy the creative process in a relaxed winery setting and take home a one-of-a-kind piece. \nTickets are limited—reserve your spot! 🍷✨
URL:https://igwinery.com/event/glass-coaster-making-class/
LOCATION:I/G Winery\, 59 West Center Street\, Cedar City\, UT\, 84720\, United States
ATTACH;FMTTYPE=image/jpeg:https://igwinery.com/wp-content/uploads/Class-Glass-Poster.jpg
END:VEVENT
BEGIN:VEVENT
DTSTART;TZID=America/Denver:20260124T183000
DTEND;TZID=America/Denver:20260124T213000
DTSTAMP:20260421T115833
CREATED:20260102T003051Z
LAST-MODIFIED:20260102T003051Z
UID:6759-1769279400-1769290200@igwinery.com
SUMMARY:Live Music - Jolly Brown Jazz Band
DESCRIPTION:Come join us for the first ever appearance at the winery of the Jolly Brown Band and enjoy the smooth Jazz sounds of this fresh new sound.
URL:https://igwinery.com/event/live-music-jolly-brown-jazz-band/
LOCATION:I/G Winery\, 59 West Center Street\, Cedar City\, UT\, 84720\, United States
CATEGORIES:Live Music
ATTACH;FMTTYPE=image/png:https://igwinery.com/wp-content/uploads/The-Jolly-Brown-Band.png
ORGANIZER;CN="I/G Entertainment Production":MAILTO:info@igwinery.com
END:VEVENT
BEGIN:VEVENT
DTSTART;TZID=America/Denver:20260128T190000
DTEND;TZID=America/Denver:20260128T200000
DTSTAMP:20260421T115833
CREATED:20260113T232710Z
LAST-MODIFIED:20260115T200150Z
UID:6852-1769626800-1769630400@igwinery.com
SUMMARY:Yoga & Wine
DESCRIPTION:Unwind and reconnect with a unique yoga class set in our winery production room. Led by our tasting steward Dennie\, this all levels class blends gentle movement\, breath\, and relaxation in a one-of-a-kind setting. Your ticket includes the yoga class plus a well-earned glass of wine — because balance is everything. \nPlease bring your own yoga mat.
URL:https://igwinery.com/event/yoga-wine/
LOCATION:I/G Winery\, 59 West Center Street\, Cedar City\, UT\, 84720\, United States
ATTACH;FMTTYPE=image/jpeg:https://igwinery.com/wp-content/uploads/Yoga-Class-with-Dennie.jpg
END:VEVENT
BEGIN:VEVENT
DTSTART;TZID=America/Denver:20260131T190000
DTEND;TZID=America/Denver:20260131T220000
DTSTAMP:20260421T115833
CREATED:20241217T000147Z
LAST-MODIFIED:20260102T004610Z
UID:5901-1769886000-1769896800@igwinery.com
SUMMARY:Live Music - D.T.G. Dylan Thomas Gavin
DESCRIPTION:Dylan Gavin Thomas is getting a lot of attention here in Southern Utah and it won’t be long before you can say “you knew him when….” Dylan  fuses an acoustic guitar sound and digital layering with a warm alternative vibe to create his own unique niche. As a singer-songwriter\, his popularity continues to grow\, so come join us and see for yourself why he is gaining such a robust following here in Southern Utah.
URL:https://igwinery.com/event/live-music-d-t-g-dylan-thomas-gavin/
LOCATION:I/G Winery\, 59 West Center Street\, Cedar City\, UT\, 84720\, United States
CATEGORIES:Live Music
ATTACH;FMTTYPE=image/png:https://igwinery.com/wp-content/uploads/Dylan-Gavin-Thomas-1-1.png
ORGANIZER;CN="I/G Entertainment Production":MAILTO:info@igwinery.com
END:VEVENT
BEGIN:VEVENT
DTSTART;TZID=America/Denver:20260207T190000
DTEND;TZID=America/Denver:20260207T220000
DTSTAMP:20260421T115833
CREATED:20241217T002134Z
LAST-MODIFIED:20260102T214920Z
UID:5906-1770490800-1770501600@igwinery.com
SUMMARY:Live Music - Mr. O.K.
DESCRIPTION:Charlie Ol’Grady Kessner\, better known by his stage name “Mr. O.K.” brings his extremely popular sound that he calls\, Love Loop Music\, back to the winery.  OK Charlie is always popular when we have him here at the winery and you need to come and see why.  He weaves diverse groove stylings of reggae\, funk\, and folk into pop songs and originals that hold true to his foundations of thoughtful lyrics that render those deep feels.
URL:https://igwinery.com/event/live-music-mr-o-k-2/
LOCATION:I/G Winery\, 59 West Center Street\, Cedar City\, UT\, 84720\, United States
CATEGORIES:Live Music
ATTACH;FMTTYPE=image/png:https://igwinery.com/wp-content/uploads/Mr-OK-at-the-Winery-8.png
ORGANIZER;CN="I/G Entertainment Production":MAILTO:info@igwinery.com
END:VEVENT
BEGIN:VEVENT
DTSTART;TZID=America/Denver:20260213T180000
DTEND;TZID=America/Denver:20260213T200000
DTSTAMP:20260421T115833
CREATED:20260115T194926Z
LAST-MODIFIED:20260115T200119Z
UID:6862-1771005600-1771012800@igwinery.com
SUMMARY:Valentine’s Cookie Decorating Class
DESCRIPTION:Bring your Valentine or Galentine and enjoy a sweet evening decorating Valentine’s-themed sugar cookies with Samantha from LoveCookiesBakery. Sip wine while learning beginner-friendly royal icing techniques as you decorate 6 cookies with step-by-step instruction. All supplies are included\, and you’ll take home your finished cookies. \n📅 February 13 | 6–8 PM🎟️ Tickets available at lovecookiesbakery.com or by scanning the QR code on the flyer⚠️ Spots are limited!
URL:https://igwinery.com/event/valentines-cookie-decorating-class/
LOCATION:I/G Winery\, 59 West Center Street\, Cedar City\, UT\, 84720\, United States
ATTACH;FMTTYPE=image/jpeg:https://igwinery.com/wp-content/uploads/Feb-Valentines-cookie-decorating-1.jpg
END:VEVENT
BEGIN:VEVENT
DTSTART;TZID=America/Denver:20260214T190000
DTEND;TZID=America/Denver:20260214T220000
DTSTAMP:20260421T115833
CREATED:20260122T080045Z
LAST-MODIFIED:20260122T224951Z
UID:6880-1771095600-1771106400@igwinery.com
SUMMARY:Hands On Ravioli Making Class
DESCRIPTION:Celebrate Valentine’s Day with an intimate\, chef-led pasta experience among candlelight and wine barrels at I/G Winery. Hosted by Kindred Kitchen\, this hands-on evening invites guests to craft fresh cheese ravioli from scratch before sitting down to a two-pasta Italian dinner. \nGuests will enjoy Chef Anthony’s creamy tomato vodka sauce\, warm garlic accompaniments\, and a decadent dessert to finish the night. Romantic\, interactive\, and intentionally small\, this experience is designed for couples\, friends\, and pasta lovers alike. \nThis is a 21+ event. \n🗓 Date: February 14⏰ Time: 7:00 PM💲 Price: $80 per ticket📍 Location: I/G Winery \nHow to Purchase Tickets: \nScan the QR code on the flyer to purchase tickets via Venmo.\nPlease include “VDay + your email address” in the description so we can confirm your reservation\n.
URL:https://igwinery.com/event/hands-on-ravioli-making-class/
LOCATION:I/G Winery\, 59 West Center Street\, Cedar City\, UT\, 84720\, United States
ATTACH;FMTTYPE=image/jpeg:https://igwinery.com/wp-content/uploads/Vday-Pasta-Event-Poster.jpg
END:VEVENT
BEGIN:VEVENT
DTSTART;TZID=America/Denver:20260221T190000
DTEND;TZID=America/Denver:20260221T220000
DTSTAMP:20260421T115833
CREATED:20241004T194440Z
LAST-MODIFIED:20260102T222212Z
UID:5662-1771700400-1771711200@igwinery.com
SUMMARY:D.T.G. - Dylan Thomas Gavin
DESCRIPTION:Stylistically\, Dylan fuses an acoustic guitar sound and digital layering with a warm alternative vibe to create his own unique niche. As a singer-songwriter\, his popularity continues to grow\, garnering a robust following here in Southern Utah.
URL:https://igwinery.com/event/dtg-dylan-thomas-gavin/
LOCATION:I/G Winery\, 59 West Center Street\, Cedar City\, UT\, 84720\, United States
CATEGORIES:Live Music
ATTACH;FMTTYPE=image/png:https://igwinery.com/wp-content/uploads/Dylan-Gavin-Thomas-1-2.png
END:VEVENT
BEGIN:VEVENT
DTSTART;TZID=America/Denver:20260225T190000
DTEND;TZID=America/Denver:20260225T200000
DTSTAMP:20260421T115833
CREATED:20260204T014549Z
LAST-MODIFIED:20260225T192604Z
UID:6891-1772046000-1772049600@igwinery.com
SUMMARY:Yoga & Wine
DESCRIPTION:Unwind and reconnect with a unique yoga class set in our winery production room. Led by our tasting steward Dennie\, this all levels class blends gentle movement\, breath\, and relaxation in a one-of-a-kind setting. Your ticket includes the yoga class plus a well-earned glass of wine — because balance is everything. \nPlease bring your own yoga mat.
URL:https://igwinery.com/event/yoga-wine-2/
LOCATION:I/G Winery\, 59 West Center Street\, Cedar City\, UT\, 84720\, United States
ATTACH;FMTTYPE=image/jpeg:https://igwinery.com/wp-content/uploads/Yoga-Class-with-Dennie-1.jpg
END:VEVENT
BEGIN:VEVENT
DTSTART;TZID=America/Denver:20260227T190000
DTEND;TZID=America/Denver:20260227T220000
DTSTAMP:20260421T115833
CREATED:20260102T222721Z
LAST-MODIFIED:20260102T222721Z
UID:6778-1772218800-1772229600@igwinery.com
SUMMARY:Live Music - Cedar Jazz Project
DESCRIPTION:Come join us for Cedar City’s very own jazz band as they share a collection of great jazz selections from the past\, the present and what they believe is the future of jazz.  I/G Winery is all about jazz music and so is the Cedar Jazz Project.  Don’t miss the chance to come in\, enjoy some great wines\, cocktails or mocktails as listen to the smooth sounds of CJP.
URL:https://igwinery.com/event/live-music-cedar-jazz-project-3/
LOCATION:UT
CATEGORIES:Live Music
ATTACH;FMTTYPE=image/png:https://igwinery.com/wp-content/uploads/Cedar-Jazz-Project-3.png
END:VEVENT
BEGIN:VEVENT
DTSTART;TZID=America/Denver:20260228T180000
DTEND;TZID=America/Denver:20260228T200000
DTSTAMP:20260421T115833
CREATED:20260211T193157Z
LAST-MODIFIED:20260228T213037Z
UID:6900-1772301600-1772308800@igwinery.com
SUMMARY:Sugar House Distillery Cocktail Class
DESCRIPTION:🍸 Cocktail Class — February 28 \n\nTime: 6:00–8:00 PM\nLocation: I/G Winery Production Room\n21+ Event\n\nKick off the weekend with a hands-on cocktail class led by the team from Sugar House Distillery. Guests will enjoy a welcome cocktail\, then learn to make and drink three cocktails using Sugar House spirits. You’ll pick up tips\, techniques\, and savor everything you create along the way.
URL:https://igwinery.com/event/sugar-house-distillery-cocktail-class/
LOCATION:I/G Winery\, 59 West Center Street\, Cedar City\, UT\, 84720\, United States
ATTACH;FMTTYPE=image/jpeg:https://igwinery.com/wp-content/uploads/Sugar-House-Distillery-flyers-1.jpg
END:VEVENT
BEGIN:VEVENT
DTSTART;TZID=America/Denver:20260301T110000
DTEND;TZID=America/Denver:20260301T140000
DTSTAMP:20260421T115833
CREATED:20260211T193808Z
LAST-MODIFIED:20260226T230744Z
UID:6904-1772362800-1772373600@igwinery.com
SUMMARY:Sugar House Distillery Brunch
DESCRIPTION:Time: 11:00 AM–2:00 PMLocation: IG Winery Production Room21+ Event \nJoin us for a special brunch catered by Digby’s Market Catering. This is a fixed-price\, 3-course seated brunch. Your ticket includes your full meal and one cocktail featuring Sugar House spirits. \nAfter purchasing your ticket\, you will receive an email with the menu and be asked to select which course you’d like to enjoy at brunch. Upon arrival\, you’ll choose your included cocktail from our special brunch cocktail menu\, with additional cocktails available for purchase during the meal.
URL:https://igwinery.com/event/sugar-house-distillery-brunch/
LOCATION:I/G Winery\, 59 West Center Street\, Cedar City\, UT\, 84720\, United States
ATTACH;FMTTYPE=image/jpeg:https://igwinery.com/wp-content/uploads/Sugar-House-Distillery-flyers-2.jpg
END:VEVENT
BEGIN:VEVENT
DTSTART;TZID=America/Denver:20260304T180000
DTEND;TZID=America/Denver:20260304T200000
DTSTAMP:20260421T115833
CREATED:20260303T230054Z
LAST-MODIFIED:20260303T230054Z
UID:6931-1772647200-1772654400@igwinery.com
SUMMARY:Paint & Sip - Let's Paint with Reggie
DESCRIPTION:Join Reggie here at the winery for another fun night of wine and painting.  Paint your latest creation among the tanks and barrels of our production room and enjoy a glass of wine\, an amazing cocktail or an outstanding mocktail.  The paint nights at the winery sell quickly so get over to Let’s Paint With Reggie on Instagram or Facebook and follow the link to get your tickets.
URL:https://igwinery.com/event/paint-sip-lets-paint-with-reggie-3/
LOCATION:I/G Winery\, 59 West Center Street\, Cedar City\, UT\, 84720\, United States
ATTACH;FMTTYPE=image/png:https://igwinery.com/wp-content/uploads/Screenshot-2026-03-03-at-4.00.24-PM.png
END:VEVENT
BEGIN:VEVENT
DTSTART;TZID=America/Denver:20260307T190000
DTEND;TZID=America/Denver:20260307T220000
DTSTAMP:20260421T115833
CREATED:20260303T232336Z
LAST-MODIFIED:20260304T003842Z
UID:6934-1772910000-1772920800@igwinery.com
SUMMARY:LIVE MUSIC - The Lonely Cactus Band
DESCRIPTION:Join us at I/G Winery on March 7th from 7–10 PM for live music with The Lonely Cactus Band! Enjoy country favorites\, great wine\, and a fun night out with friends.
URL:https://igwinery.com/event/live-music-the-lonely-cactus-band/
LOCATION:I/G Winery\, 59 West Center Street\, Cedar City\, UT\, 84720\, United States
ATTACH;FMTTYPE=image/jpeg:https://igwinery.com/wp-content/uploads/LIVE-MUSIC-The-Lonely-Cactus-Band.jpg
END:VEVENT
BEGIN:VEVENT
DTSTART;TZID=America/Denver:20260314T190000
DTEND;TZID=America/Denver:20260314T220000
DTSTAMP:20260421T115833
CREATED:20260304T000823Z
LAST-MODIFIED:20260304T003804Z
UID:6937-1773514800-1773525600@igwinery.com
SUMMARY:LIVE MUSIC - Mr.OK
DESCRIPTION:Join us at I/G Winery on March 14th from 7–10 PM for live music with Mr. OK! Enjoy an evening of great tunes\, your favorite wines\, and a relaxed\, fun atmosphere.
URL:https://igwinery.com/event/live-music-mr-ok/
LOCATION:I/G Winery\, 59 West Center Street\, Cedar City\, UT\, 84720\, United States
ATTACH;FMTTYPE=image/jpeg:https://igwinery.com/wp-content/uploads/LIVE-MUSIC-Mr.Ok_.jpg
END:VEVENT
BEGIN:VEVENT
DTSTART;TZID=America/Denver:20260325T180000
DTEND;TZID=America/Denver:20260325T200000
DTSTAMP:20260421T115833
CREATED:20260304T003541Z
LAST-MODIFIED:20260304T003541Z
UID:6946-1774461600-1774468800@igwinery.com
SUMMARY:Easter Cookie Decorating Class
DESCRIPTION:Bring your friends and enjoy a sweet evening decorating Easter-themed sugar cookies with Samantha from LoveCookiesBakery. Sip wine while learning beginner-friendly royal icing techniques as you decorate 6 festive cookies with step-by-step instruction. All supplies are included\, and you’ll take home your finished creations. \n📅 March 25 | 6–8 PM🎟️ Tickets available at lovecookiesbakery.com or by scanning the QR code on the flyer⚠️ Spots are limited!
URL:https://igwinery.com/event/easter-cookie-decorating-class/
LOCATION:I/G Winery\, 59 West Center Street\, Cedar City\, UT\, 84720\, United States
ATTACH;FMTTYPE=image/jpeg:https://igwinery.com/wp-content/uploads/March-cookie-decorating.jpg
END:VEVENT
BEGIN:VEVENT
DTSTART;TZID=America/Denver:20260328T190000
DTEND;TZID=America/Denver:20260328T220000
DTSTAMP:20260421T115833
CREATED:20260304T001750Z
LAST-MODIFIED:20260304T002034Z
UID:6940-1774724400-1774735200@igwinery.com
SUMMARY:LIVE MUSIC - Dylan Thomas Gavin
DESCRIPTION:Join us at I/G Winery on March 28th from 7–10 PM for live music with Dylan Thomas Gavin! Enjoy an evening of smooth vocals\, great vibes\, and your favorite wines in a relaxed\, welcoming atmosphere.
URL:https://igwinery.com/event/live-music-dylan-thomas-gavin/
LOCATION:I/G Winery\, 59 West Center Street\, Cedar City\, UT\, 84720\, United States
ATTACH;FMTTYPE=image/jpeg:https://igwinery.com/wp-content/uploads/LIVE-MUSIC-Dylan-Thomas-Gavin.jpg
END:VEVENT
BEGIN:VEVENT
DTSTART;TZID=America/Denver:20260401T180000
DTEND;TZID=America/Denver:20260401T200000
DTSTAMP:20260421T115833
CREATED:20260318T193438Z
LAST-MODIFIED:20260318T193438Z
UID:6954-1775066400-1775073600@igwinery.com
SUMMARY:Paint & Sip - Let's Paint with Reggie
DESCRIPTION:Join Reggie here at the winery for another fun night of wine and painting.  Paint your latest creation among the tanks and barrels of our production room and enjoy a glass of wine\, an amazing cocktail or an outstanding mocktail.  The paint nights at the winery sell quickly so get over to Let’s Paint With Reggie on Instagram or Facebook and follow the link to get your tickets.
URL:https://igwinery.com/event/paint-sip-lets-paint-with-reggie-4/
LOCATION:I/G Winery\, 59 West Center Street\, Cedar City\, UT\, 84720\, United States
ATTACH;FMTTYPE=image/png:https://igwinery.com/wp-content/uploads/Screenshot-2026-03-18-at-1.34.13-PM.png
END:VEVENT
BEGIN:VEVENT
DTSTART;TZID=America/Denver:20260404T190000
DTEND;TZID=America/Denver:20260404T220000
DTSTAMP:20260421T115833
CREATED:20260318T193710Z
LAST-MODIFIED:20260318T193710Z
UID:6957-1775329200-1775340000@igwinery.com
SUMMARY:LIVE MUSIC - The Lonely Cactus Band
DESCRIPTION:Join us at I/G Winery on April 4th from 7–10 PM for live music with The Lonely Cactus Band! Enjoy country favorites\, great wine\, and a fun night out with friends.
URL:https://igwinery.com/event/live-music-the-lonely-cactus-band-2/
LOCATION:I/G Winery\, 59 West Center Street\, Cedar City\, UT\, 84720\, United States
ATTACH;FMTTYPE=image/jpeg:https://igwinery.com/wp-content/uploads/LIVE-MUSIC-The-Lonely-Cactus-Band-1.jpg
END:VEVENT
BEGIN:VEVENT
DTSTART;TZID=America/Denver:20260410T190000
DTEND;TZID=America/Denver:20260410T220000
DTSTAMP:20260421T115833
CREATED:20260318T194032Z
LAST-MODIFIED:20260318T194032Z
UID:6962-1775847600-1775858400@igwinery.com
SUMMARY:LIVE MUSIC - Mr.OK
DESCRIPTION:Join us at I/G Winery on April 10th from 7–10 PM for live music with Mr. OK! Enjoy an evening of great tunes\, your favorite wines\, and a relaxed\, fun atmosphere.
URL:https://igwinery.com/event/live-music-mr-ok-3/
LOCATION:I/G Winery\, 59 West Center Street\, Cedar City\, UT\, 84720\, United States
ATTACH;FMTTYPE=image/jpeg:https://igwinery.com/wp-content/uploads/LIVE-MUSIC-Mr.Ok-1.jpg
END:VEVENT
BEGIN:VEVENT
DTSTART;TZID=America/Denver:20260411T130000
DTEND;TZID=America/Denver:20260411T143000
DTSTAMP:20260421T115833
CREATED:20260331T222209Z
LAST-MODIFIED:20260401T004055Z
UID:6970-1775912400-1775917800@igwinery.com
SUMMARY:Cocktail Class - Dented Brick Distillery Spotlight
DESCRIPTION:Enjoy a welcome cocktail & learn to craft 3 unique cocktails in this hands-on class at I/G Winery\, led by the Dented Brick team. The crew will guide you through each recipe\, teaching techniques to elevate your home bartending skills with Dented Brick spirits. \nDate & Time: April 11 @1PM \nLocation: I/G Winery \nPrice: $55 General Admission | $50 Wine Club Members
URL:https://igwinery.com/event/cocktail-class-dented-brick-distillery-spotlight/
LOCATION:I/G Winery\, 59 West Center Street\, Cedar City\, UT\, 84720\, United States
ATTACH;FMTTYPE=image/jpeg:https://igwinery.com/wp-content/uploads/Dented-Brick-cocktail-class-1.jpg
END:VEVENT
BEGIN:VEVENT
DTSTART;TZID=America/Denver:20260411T170000
DTEND;TZID=America/Denver:20260411T180000
DTSTAMP:20260421T115833
CREATED:20260331T222658Z
LAST-MODIFIED:20260331T222658Z
UID:6976-1775926800-1775930400@igwinery.com
SUMMARY:Salsa Dancing Class
DESCRIPTION:Join Endrica for a lively salsa class for all skill levels! Get moving on the dance floor\, learn new steps\, and enjoy a fun\, energetic atmosphere. Drinks\, including Dented Brick cocktails\, are available for purchase separately. \nDate & Time: April 11 @5PM \nLocation: I/G Winery \nPrice: $15 per person
URL:https://igwinery.com/event/salsa-dancing-class/
LOCATION:I/G Winery\, 59 West Center Street\, Cedar City\, UT\, 84720\, United States
ATTACH;FMTTYPE=image/jpeg:https://igwinery.com/wp-content/uploads/Salsa-Class.jpg
END:VEVENT
END:VCALENDAR