BEGIN:VCALENDAR
VERSION:2.0
PRODID:-//I/G Winery - ECPv6.15.20//NONSGML v1.0//EN
CALSCALE:GREGORIAN
METHOD:PUBLISH
X-WR-CALNAME:I/G Winery
X-ORIGINAL-URL:https://igwinery.com
X-WR-CALDESC:Events for I/G Winery
REFRESH-INTERVAL;VALUE=DURATION:PT1H
X-Robots-Tag:noindex
X-PUBLISHED-TTL:PT1H
BEGIN:VTIMEZONE
TZID:America/Denver
BEGIN:DAYLIGHT
TZOFFSETFROM:-0700
TZOFFSETTO:-0600
TZNAME:MDT
DTSTART:20210314T090000
END:DAYLIGHT
BEGIN:STANDARD
TZOFFSETFROM:-0600
TZOFFSETTO:-0700
TZNAME:MST
DTSTART:20211107T080000
END:STANDARD
BEGIN:DAYLIGHT
TZOFFSETFROM:-0700
TZOFFSETTO:-0600
TZNAME:MDT
DTSTART:20220313T090000
END:DAYLIGHT
BEGIN:STANDARD
TZOFFSETFROM:-0600
TZOFFSETTO:-0700
TZNAME:MST
DTSTART:20221106T080000
END:STANDARD
BEGIN:DAYLIGHT
TZOFFSETFROM:-0700
TZOFFSETTO:-0600
TZNAME:MDT
DTSTART:20230312T090000
END:DAYLIGHT
BEGIN:STANDARD
TZOFFSETFROM:-0600
TZOFFSETTO:-0700
TZNAME:MST
DTSTART:20231105T080000
END:STANDARD
BEGIN:DAYLIGHT
TZOFFSETFROM:-0700
TZOFFSETTO:-0600
TZNAME:MDT
DTSTART:20240310T090000
END:DAYLIGHT
BEGIN:STANDARD
TZOFFSETFROM:-0600
TZOFFSETTO:-0700
TZNAME:MST
DTSTART:20241103T080000
END:STANDARD
END:VTIMEZONE
BEGIN:VEVENT
DTSTART;TZID=America/Denver:20230904T090000
DTEND;TZID=America/Denver:20230904T110000
DTSTAMP:20260421T004148
CREATED:20230622T193225Z
LAST-MODIFIED:20230622T193225Z
UID:4369-1693818000-1693825200@igwinery.com
SUMMARY:Utah Wine Festival - Farewell Breakfast
DESCRIPTION:Join us for one last event as we say goodbye until next year with a parting breakfast served under the fruit trees at beautiful Sweet Pea Farm and Orchard. Dayla Ulrich will prepare the perfect breakfast that will allow us to reflect on the memories that we made during the 2023 Utah Wine Festival.
URL:https://igwinery.com/event/utah-wine-festival-farewell-breakfast/
LOCATION:Sweet Pea Farm & Orchard\, 136 S 600 W\, Parowan\, UT\, 84761\, United States
ORGANIZER;CN="Utah Wine Festival":MAILTO:info@utahwinefest.com
END:VEVENT
BEGIN:VEVENT
DTSTART;TZID=America/Denver:20230903T183000
DTEND;TZID=America/Denver:20230903T203000
DTSTAMP:20260421T004148
CREATED:20230622T192732Z
LAST-MODIFIED:20230622T192812Z
UID:4367-1693765800-1693773000@igwinery.com
SUMMARY:Utah Wine Festival - Grand Dinner on Center
DESCRIPTION:We close down Center Street and set up a table the length of the block in order to serve this immersive dinner experience. You’ll be greeted at the entrance with a glass of wine as our Maître d’ takes you to your seats. Sit down\, relax\, chat with old friends and make some new ones as you enjoy the food of renowned Chef Cole Chiaramonte with The Pub Craft Kitchen\, perfectly paired with several outstanding Utah wines.
URL:https://igwinery.com/event/utah-wine-festival-grand-dinner-on-center/
LOCATION:I/G Winery\, 59 West Center Street\, Cedar City\, UT\, 84720\, United States
ORGANIZER;CN="Utah Wine Festival":MAILTO:info@utahwinefest.com
END:VEVENT
BEGIN:VEVENT
DTSTART;TZID=America/Denver:20230903T110000
DTEND;TZID=America/Denver:20230903T130000
DTSTAMP:20260421T004148
CREATED:20230622T192555Z
LAST-MODIFIED:20230622T192555Z
UID:4364-1693738800-1693746000@igwinery.com
SUMMARY:Utah Wine Festival - Viticulture and Vino
DESCRIPTION:Southern Utah’s newest vineyard\, called Mindira\, is located on the banks of the Virgin River\, in Rockville\, just outside Zion National Park.  It is being planted now\, but we want you to be a part of the vineyards legacy. Everyone at this event will have a chance to plant a vine in the last row to be planted as you learn a little about the varietal you’re planting\, and of course\, try some wine made from that varietal.   Once that is done\, we will all celebrate the completion of the vineyard with wine\, small bites and live music.
URL:https://igwinery.com/event/utah-wine-festival-viticulture-and-vino/
LOCATION:Mindira Vineyard\, 276 Grafton Road\, Rockville\, UT\, 84763\, United States
ORGANIZER;CN="Utah Wine Festival":MAILTO:info@utahwinefest.com
END:VEVENT
BEGIN:VEVENT
DTSTART;TZID=America/Denver:20230902T180000
DTEND;TZID=America/Denver:20230902T200000
DTSTAMP:20260421T004148
CREATED:20230622T192143Z
LAST-MODIFIED:20230622T192212Z
UID:4361-1693677600-1693684800@igwinery.com
SUMMARY:Utah Wine Festival - Magnifique
DESCRIPTION:This unique experience will begin by taking the ski lift to the top of the hill where you will be greeted by exquisite food with magnificent views. Elevate the senses at almost 11\,000’ above sea level as chef Cole Chiaramonte pairs incredible dishes to the spectacular views from the top of Chair 2 in Brian Head Resort. This new\, exclusive event is one that you will want to make sure you are part of.
URL:https://igwinery.com/event/utah-wine-festival-magnifique/
LOCATION:Chair 2 – Brian Head Resort\, 329 UT-143\, Brian Head Town\, UT\, 84719\, United States
ORGANIZER;CN="Utah Wine Festival":MAILTO:info@utahwinefest.com
END:VEVENT
BEGIN:VEVENT
DTSTART;TZID=America/Denver:20230902T180000
DTEND;TZID=America/Denver:20230902T200000
DTSTAMP:20260421T004148
CREATED:20230622T191812Z
LAST-MODIFIED:20230622T191812Z
UID:4359-1693677600-1693684800@igwinery.com
SUMMARY:Utah Wine Festival - Epicurean’s On The Edge
DESCRIPTION:Experience the culinary artistry of Chef Shon Foster\,  as he presents Epicurean’s on the Edge. This year we will be dining at the top of Cedar Mountain\, right beside Linford’s pond. Enjoy this special meal as you watch the sunset as the lights of Cedar City slowly appear in the valley far below.
URL:https://igwinery.com/event/utah-wine-festival-epicureans-on-the-edge/
LOCATION:UT
ORGANIZER;CN="Utah Wine Festival":MAILTO:info@utahwinefest.com
END:VEVENT
BEGIN:VEVENT
DTSTART;TZID=America/Denver:20230902T180000
DTEND;TZID=America/Denver:20230902T180000
DTSTAMP:20260421T004148
CREATED:20230622T191515Z
LAST-MODIFIED:20230622T191515Z
UID:4356-1693677600-1693677600@igwinery.com
SUMMARY:Utah Wine Festival - Terroir to Table Dinner
DESCRIPTION:Join us for a unique dining experience under the open sky. The dinner will include wine from Utah wineries. There will be appetizers before we gather for a farm tour. Then\, a sit-down dinner will be served family-style (or farm-style). Discussion and questions from the guests will be encouraged. Farmer and chef Sara Patterson will create the menu with ingredients dictated by what we freshly harvest from Red Acre Farm. Other components will be sourced from artisan producers\, local farms\, gardens\, and ranches in keeping with our focus on exhibiting the terrior. The menu will include vegetarian options and grass-fed meat dishes. The dinner will be spontaneous and of the season. A menu will be on the table that evening.
URL:https://igwinery.com/event/utah-wine-festival-terroir-to-table-dinner/
LOCATION:Red Acre Farm\, 2322 W 4375 N\, Cedar City\, UT\, 84721\, United States
ORGANIZER;CN="Utah Wine Festival":MAILTO:info@utahwinefest.com
END:VEVENT
BEGIN:VEVENT
DTSTART;TZID=America/Denver:20230902T150000
DTEND;TZID=America/Denver:20230902T163000
DTSTAMP:20260421T004148
CREATED:20230622T191129Z
LAST-MODIFIED:20230622T191129Z
UID:4354-1693666800-1693672200@igwinery.com
SUMMARY:Utah Wine Festival - Flights and Bites
DESCRIPTION:Join Utah winemakers as they walk you through an intimate tasting of their wines. Enjoy a small plate of bites that pair perfectly with the wines and you discuss with the winemakers why they made their wines in the style that they did.
URL:https://igwinery.com/event/utah-wine-festival-flights-and-bites/
LOCATION:I/G Winery\, 59 West Center Street\, Cedar City\, UT\, 84720\, United States
ORGANIZER;CN="Utah Wine Festival":MAILTO:info@utahwinefest.com
END:VEVENT
BEGIN:VEVENT
DTSTART;TZID=America/Denver:20230902T110000
DTEND;TZID=America/Denver:20230902T123000
DTSTAMP:20260421T004148
CREATED:20230622T190904Z
LAST-MODIFIED:20230622T190904Z
UID:4352-1693652400-1693657800@igwinery.com
SUMMARY:Utah Wine Festival - Utah Grapes and Their European Counterparts
DESCRIPTION:Join Sheral Schowe with the Wasatch Academy of Wine as she walks you through a guided tasting of Utah wines and their European counter parts. As you do a side by side comparison of Pinot Grigio\, Chardonnay\, Sangiovese and Tempranillo\, you will also learn the history of these varietals and why they are becoming part of the Utah wine scene.
URL:https://igwinery.com/event/utah-wine-festival-utah-grapes-and-their-european-counterparts/
LOCATION:I/G Winery\, 59 West Center Street\, Cedar City\, UT\, 84720\, United States
ORGANIZER;CN="Utah Wine Festival":MAILTO:info@utahwinefest.com
END:VEVENT
BEGIN:VEVENT
DTSTART;TZID=America/Denver:20230902T110000
DTEND;TZID=America/Denver:20230902T123000
DTSTAMP:20260421T004148
CREATED:20230622T190203Z
LAST-MODIFIED:20230622T190355Z
UID:4348-1693652400-1693657800@igwinery.com
SUMMARY:Utah Wine Festival - Mixology Utah
DESCRIPTION:Join the always entertaining Jim Santangelo as he walks you through a tasting of Utah-produced spirits and teaches you the art of mixology to give you the knowledge you need to make your own delectable craft cocktails at home.
URL:https://igwinery.com/event/utah-wine-festival-mixology-utah/
LOCATION:I/G Winery\, 59 West Center Street\, Cedar City\, UT\, 84720\, United States
ORGANIZER;CN="Utah Wine Festival":MAILTO:info@utahwinefest.com
END:VEVENT
BEGIN:VEVENT
DTSTART;TZID=America/Denver:20230901T200000
DTEND;TZID=America/Denver:20230901T213000
DTSTAMP:20260421T004148
CREATED:20230622T185815Z
LAST-MODIFIED:20230622T185815Z
UID:4346-1693598400-1693603800@igwinery.com
SUMMARY:Utah Wine Festival - Margarita Madness
DESCRIPTION:See one of the most popular cocktails\, the margarita\, in a whole new light at margarita madness! Throughout the evening enjoy entertaining information regarding tequila and margaritas in addition to a unique take on this sharp yet refreshing cocktail.
URL:https://igwinery.com/event/utah-wine-festival-margarita-madness/
LOCATION:I/G Winery\, 59 West Center Street\, Cedar City\, UT\, 84720\, United States
ATTACH;FMTTYPE=image/png:https://igwinery.com/wp-content/uploads/Popcorn-Wine-Ticket-2.png
ORGANIZER;CN="Utah Wine Festival":MAILTO:info@utahwinefest.com
END:VEVENT
BEGIN:VEVENT
DTSTART;TZID=America/Denver:20230901T180000
DTEND;TZID=America/Denver:20230901T200000
DTSTAMP:20260421T004148
CREATED:20230622T185510Z
LAST-MODIFIED:20230622T185510Z
UID:4342-1693591200-1693598400@igwinery.com
SUMMARY:Utah Wine Festival - Culinary & Carbonic
DESCRIPTION:This food and wine event brings together the culinary craftsmanship of 5 amazing chefs paired with the delectable flavors of Water Canyon Resort Winery’s carbonic style wines\, to create a food and wine event like no other. Plan to join owners Shane and Kalie Tooke at Water Canyon Winery in Hildale for this night of passed plates\, live music\, fireside conversations and Shane’s amazing Utah wines. \nWhy not make a night of it? Book a room at Water Canyon Resort by following this link www.watercanyonresort.com They have special rooms set aside for ticket holders that want to enjoy the whole Water Canyon Resort experience.
URL:https://igwinery.com/event/utah-wine-festival-culinary-carbonic/
LOCATION:Water Canyon Winery\, 1050 Field Ave.\, Hildale\, UT\, 84784\, United States
ATTACH;FMTTYPE=image/png:https://igwinery.com/wp-content/uploads/Popcorn-Wine-Ticket-3.png
ORGANIZER;CN="Utah Wine Festival":MAILTO:info@utahwinefest.com
END:VEVENT
BEGIN:VEVENT
DTSTART;TZID=America/Denver:20230901T180000
DTEND;TZID=America/Denver:20230901T193000
DTSTAMP:20260421T004148
CREATED:20230622T184210Z
LAST-MODIFIED:20230622T185628Z
UID:4326-1693591200-1693596600@igwinery.com
SUMMARY:Utah Wine Festival - Popcorn and Wine
DESCRIPTION:Join hosts Jim Santangelo and David McCurdy as they present this fun and educational gathering pairing Utah wines with different flavors of popcorn. Yes\, you read that right\, popcorn and wine. Trust us\, you’ll be amazed at how fun this is.
URL:https://igwinery.com/event/utah-wine-festival-popcorn-and-wine/
LOCATION:I/G Winery\, 59 West Center Street\, Cedar City\, UT\, 84720\, United States
ORGANIZER;CN="Utah Wine Festival":MAILTO:info@utahwinefest.com
END:VEVENT
BEGIN:VEVENT
DTSTART;TZID=America/Denver:20230819T170000
DTEND;TZID=America/Denver:20230819T200000
DTSTAMP:20260421T004148
CREATED:20220804T235109Z
LAST-MODIFIED:20230622T161845Z
UID:3842-1692464400-1692475200@igwinery.com
SUMMARY:Salt City Wine & Dine
DESCRIPTION:The second annual Salt City Wine & Dine event is set to take place on August 27th at the magnificent La Caille estate. Attendees will be able to walk around and sample the wares of over 35 of the best restaurants\, distilleries and wineries in the state. This is an excellent opportunity to try new things and find new favorites. Additionally\, it is a rare chance to enjoy the company of others while taking in the lovely scenery of the La Caille grounds and partake in the wines produced on the property. \nSalt City Wine & Dine is a rare opportunity to try Salt Lake’s best food\, wine and beverages all in one place while enjoying the amazing ambiance of one of the most amazing properties in Salt Lake City!  Mark your calendars\, purchase your tickets early (this event will sell out)\, and join us for an unforgettable experience \nYour favorite I/G Winery wines will be poured at this event.
URL:https://igwinery.com/event/salt-city-wine-dine/
LOCATION:La Caille\, 9565 Wasatch Blvd\, Sandy\, UT\, 84092\, United States
ATTACH;FMTTYPE=image/png:https://igwinery.com/wp-content/uploads/Paint-Night-14.png
END:VEVENT
BEGIN:VEVENT
DTSTART;TZID=America/Denver:20230514T110000
DTEND;TZID=America/Denver:20230514T130000
DTSTAMP:20260421T004148
CREATED:20230426T151736Z
LAST-MODIFIED:20230426T151736Z
UID:4239-1684062000-1684069200@igwinery.com
SUMMARY:Mothers Day Waffle Brunch
DESCRIPTION:Mimosas and waffles for mom\, oh my! Join us at I/G Winery on Sunday\, May 14th\, to celebrate all of the special mothers in your life with a waffle bar and speciality mimosas! This charming event is the perfect way to celebrate such a special day!\nEach ticket includes a waffle brunch for one. Per Utah law\, drinks will be charged separately the day of the event. Tickets may be purchased here\, or by calling the winery at (435) 867-9463. See you there!
URL:https://igwinery.com/event/mothers-day-waffle-brunch/
LOCATION:I/G Winery\, 59 West Center Street\, Cedar City\, UT\, 84720\, United States
ATTACH;FMTTYPE=image/png:https://igwinery.com/wp-content/uploads/Paint-Night-Facebook-Event-Cover-11.png
END:VEVENT
BEGIN:VEVENT
DTSTART;TZID=America/Denver:20230503T190000
DTEND;TZID=America/Denver:20230503T203000
DTSTAMP:20260421T004148
CREATED:20230330T212936Z
LAST-MODIFIED:20230330T212936Z
UID:4113-1683140400-1683145800@igwinery.com
SUMMARY:Margarita Madness
DESCRIPTION:See one of the most popular cocktails\, the margarita\, in a whole new light at margarita madness! Throughout the evening enjoy entertaining information regarding tequila and margaritas in addition to a unique take on this sharp yet refreshing cocktail. At the end of the evening\, you will receive a kit to take home so you can make your own wine based margarita to share with your friends and family!
URL:https://igwinery.com/event/margarita-madness/
LOCATION:I/G Winery\, 59 West Center Street\, Cedar City\, UT\, 84720\, United States
END:VEVENT
BEGIN:VEVENT
DTSTART;TZID=America/Denver:20230427T180000
DTEND;TZID=America/Denver:20230427T200000
DTSTAMP:20260421T004148
CREATED:20230421T214156Z
LAST-MODIFIED:20230421T214156Z
UID:4229-1682618400-1682625600@igwinery.com
SUMMARY:Wine & Flatbread Pairing
DESCRIPTION:Join the Social District Boutique and Bistro as they pair their artisan flatbreads with our wines. Come prepared to socialize\, shop\, and savor at this unique event! Call the Social District at (435) 288-3323 right away to make a reservation. Spots are limited and this event will sell out quickly! \n  \n 
URL:https://igwinery.com/event/wine-flatbread-pairing/
LOCATION:Social District Boutique & Bistro\, 250 Red Cliffs Dr 26A\, St. George\, UT\, 84790\, United States
ATTACH;FMTTYPE=image/png:https://igwinery.com/wp-content/uploads/Paint-Night-Facebook-Event-Cover-9.png
END:VEVENT
BEGIN:VEVENT
DTSTART;TZID=America/Denver:20230418T190000
DTEND;TZID=America/Denver:20230418T203000
DTSTAMP:20260421T004148
CREATED:20230330T203830Z
LAST-MODIFIED:20230330T203830Z
UID:4108-1681844400-1681849800@igwinery.com
SUMMARY:Spring into Sangria
DESCRIPTION:Prepare for warmer weather and evenings spent outside with our spring into sangria event! Discover its fascinating history\, learn to make a white\, rosé and red sangria\, and taste delicious samples. At the end of the evening\, you will receive a kit to take home so you can make your own sangria to share with your friends and family! Spring into action\, tickets will sell quickly!
URL:https://igwinery.com/event/spring-into-sangria/
LOCATION:I/G Winery\, 59 West Center Street\, Cedar City\, UT\, 84720\, United States
CATEGORIES:Food and Wine
END:VEVENT
BEGIN:VEVENT
DTSTART;TZID=America/Denver:20230405T180000
DTEND;TZID=America/Denver:20230405T200000
DTSTAMP:20260421T004148
CREATED:20221229T202111Z
LAST-MODIFIED:20230302T203044Z
UID:3935-1680717600-1680724800@igwinery.com
SUMMARY:Let's Paint - Spring Blossom
DESCRIPTION:Come paint “Spring Blossom” or create your own. Ages 21 and up. Outside food welcome. Enjoy a relaxing night out painting with your friends. No experience necessary! Click ticket link to purchase yours. All sales are final but may be transferred to another person or event. Cash payments also accepted. Message me first. Located at IG Winery 59 W Center St. Cedar City.
URL:https://igwinery.com/event/lets-paint-shamrock/
LOCATION:I/G Winery\, 59 West Center Street\, Cedar City\, UT\, 84720\, United States
END:VEVENT
BEGIN:VEVENT
DTSTART;TZID=America/Denver:20230317T180000
DTEND;TZID=America/Denver:20230317T220000
DTSTAMP:20260421T004148
CREATED:20230203T184355Z
LAST-MODIFIED:20230203T184355Z
UID:4084-1679076000-1679090400@igwinery.com
SUMMARY:St. Patrick's Day Tap Takeover with Silver Reef Brewing Co.
DESCRIPTION:Join us this St. Patrick’s day as we welcome Silver Reef Brewery to share 9 of their incredible beers! Consider yourself lucky as you enjoy their: Spaghetti Western – Italian Style Pilsner\, Hefeweizen as well as their Dry Irish Stout on tap in addition to their Day Drink Believer Golden Lager\, Java Madre Coffee Stout\, Planet Utah\, Agua Del Diablo Mexican Style Lager\, Color Country Red Ale and their Fresh and Juicy IPA by the can.
URL:https://igwinery.com/event/st-patricks-day-tap-takeover-with-silver-reef-brewing-co/
LOCATION:I/G Winery\, 59 West Center Street\, Cedar City\, UT\, 84720\, United States
END:VEVENT
BEGIN:VEVENT
DTSTART;VALUE=DATE:20230303
DTEND;VALUE=DATE:20230304
DTSTAMP:20260421T004148
CREATED:20221109T192810Z
LAST-MODIFIED:20230105T174848Z
UID:3895-1677801600-1677887999@igwinery.com
SUMMARY:Spring 2023 Wine Club Charges
DESCRIPTION:Spring 2023 wine club will be charged on March 3\, 2022. Current club members\, If billing or shipping information has changed\, please call the winery at (435) 867-9463 to update your information today!  If you are not yet receiving all of the benefits that our club members receive\, please make sure to sign up via the following link: https://igwinery.wpenginepowered.com/wine-club/
URL:https://igwinery.com/event/winter-2022-wine-club-charges/
LOCATION:UT
END:VEVENT
BEGIN:VEVENT
DTSTART;TZID=America/Denver:20230214T173000
DTEND;TZID=America/Denver:20230214T220000
DTSTAMP:20260421T004148
CREATED:20230112T204522Z
LAST-MODIFIED:20230204T171842Z
UID:3947-1676395800-1676412000@igwinery.com
SUMMARY:Valentine's Day Wine Pairing Dinner
DESCRIPTION:Spend this Valentine’s Day celebrating at one of the most romantic getaways in Southern Utah\, I/G Winery! We are excited to announce that we have partnered with The Pub Craft Kitchen to offer a sumptuous wine pairing dinner! Each reservation will also include a gorgeous flower arrangement from Rose and Fern Studio. Book your reservation for 5:30 pm\, 7:00 pm or 8:30 pm—tickets are limited\, so be sure to get yours quickly so you can treat your special loved one to the night they deserve! \nFirst Course: Corn Chowder Soup\nRoasted chicken and vegetable salad/ cilantro cream/ tri-color tortilla strips \nMain Course: Filet Oscar\nSmoked filet/ seared asparagus/ lemon-buttered poached crab/ hollandaise sauce/ garlic mashed potatoes \nDessert Course: Warm Chocolate Fudge Cake\nMascarpone white chocolate/ raspberry/ cookie crumbs/ vanilla cream \nThe ticket price includes a 20% gratuity added to the cost.
URL:https://igwinery.com/event/valentines-day-wine-pairing-dinner/
LOCATION:I/G Winery\, 59 West Center Street\, Cedar City\, UT\, 84720\, United States
CATEGORIES:Food and Wine
END:VEVENT
BEGIN:VEVENT
DTSTART;TZID=America/Denver:20230131T190000
DTEND;TZID=America/Denver:20230131T203000
DTSTAMP:20260421T004148
CREATED:20230113T222158Z
LAST-MODIFIED:20230113T222158Z
UID:3964-1675191600-1675197000@igwinery.com
SUMMARY:Celebrate Mulled Wine
DESCRIPTION:Escape the winter chill by warming up at our Celebrate Mulled Wine event! Discover its fascinating history\, learn to make both a white and a red mulled wine\, and taste delicious samples. At the end of the evening\, you will receive a kit to take home so you can make your own mulled wine to share with your friends and family! Don’t “mull” it over for too long\, tickets will sell quickly!
URL:https://igwinery.com/event/celebrate-mulled-wine/
LOCATION:I/G Winery\, 59 West Center Street\, Cedar City\, UT\, 84720\, United States
END:VEVENT
BEGIN:VEVENT
DTSTART;TZID=America/Denver:20230111T180000
DTEND;TZID=America/Denver:20230111T200000
DTSTAMP:20260421T004148
CREATED:20220802T170957Z
LAST-MODIFIED:20221229T201755Z
UID:3834-1673460000-1673467200@igwinery.com
SUMMARY:Let’s Paint - Floral Guitar
DESCRIPTION:Come paint “Floral Guitar” or create your own. Ages 21 and up. Outside food welcome. Enjoy a relaxing night out painting with your friends. No experience necessary! Click ticket link to purchase yours. All sales are final but may be transferred to another person or event. Cash payments also accepted. Message me first. Located at IG Winery 59 W Center St. Cedar City.
URL:https://igwinery.com/event/lets-paint-serene-falls/
LOCATION:I/G Winery\, 59 West Center Street\, Cedar City\, UT\, 84720\, United States
END:VEVENT
BEGIN:VEVENT
DTSTART;VALUE=DATE:20221202
DTEND;VALUE=DATE:20221203
DTSTAMP:20260421T004148
CREATED:20221109T215225Z
LAST-MODIFIED:20221109T215754Z
UID:3898-1669939200-1670025599@igwinery.com
SUMMARY:Holiday Tempest Release
DESCRIPTION:Our Holiday Tempest will return to our shelves starting December 2\, 2022\, and you’ll definitely want to make this delicious wine a staple in your glass throughout the holiday season! Specially aged in a rum barrel\, the Holiday Tempest is a blend of Petite Sirah\, Zinfandel\, and Viognier\, and is more full-bodied than our standard Tempest. With notes of raspberry\, sugar cane\, nutmeg\, and cinnamon\, we think it’s the perfect complement to a chilly winter night. Grab a bottle (or two) of this limited-production wine for the holidays before it’s gone!
URL:https://igwinery.com/event/holiday-tempest-release/
LOCATION:UT
CATEGORIES:Wine Release
END:VEVENT
BEGIN:VEVENT
DTSTART;VALUE=DATE:20221115
DTEND;VALUE=DATE:20221116
DTSTAMP:20260421T004148
CREATED:20220505T004302Z
LAST-MODIFIED:20221109T190229Z
UID:3662-1668470400-1668556799@igwinery.com
SUMMARY:Mourvèdre Release
DESCRIPTION:To celebrate our 10th anniversary\, we are releasing some special varietals under our Década label. We brought back some of our club member favorites\, and we are previewing some varietals that are going to be offered at I/G Winery in the future. Our 2017 Mourvèdre from Columbia Valley will be the final release in this series. \nWe opened our doors ten years ago on June 8\, 2012\, just a tiny little winery in a converted cottage behind the Iron Gate B&B. Today\, we are Utah’s oldest and largest winery. Our kids have grown up and become part of he business and we have worked hard to clear the path for the growth of the wine business in Southern Utah. We hope you’ll join us in raising a glass to honor the stories of our past\, and to celebrate the stories yet to be written.
URL:https://igwinery.com/event/mourvedre-release/
LOCATION:I/G Winery\, 59 West Center Street\, Cedar City\, UT\, 84720\, United States
CATEGORIES:Wine Release
END:VEVENT
BEGIN:VEVENT
DTSTART;TZID=America/Denver:20221028T180000
DTEND;TZID=America/Denver:20221029T230000
DTSTAMP:20260421T004148
CREATED:20211020T223522Z
LAST-MODIFIED:20221007T230535Z
UID:3352-1666980000-1667084400@igwinery.com
SUMMARY:The Nightcap Before Christmas
DESCRIPTION:The Nightcap Before Christmas \n“What’s this? What’s this? There’s cocktails everywhere! What’s this? There is wine pouring through the air! What’s this?” No\, you’re not dreaming—The Nightcap Before Christmas is coming to I/G Winery! Join us October 28th 6pm-11pm or October 39th 6pm-11pm for a weekend of exclusive specialty cocktails\, enchanting entertainment\, and spooky company as we celebrate Halloween 2022!\n\nThere is no cover charge for this event.\n\nCostumes are welcomed!
URL:https://igwinery.com/event/the-nightcap-before-christmas-2/
LOCATION:I/G Winery\, 59 West Center Street\, Cedar City\, UT\, 84720\, United States
END:VEVENT
BEGIN:VEVENT
DTSTART;VALUE=DATE:20220902
DTEND;VALUE=DATE:20220905
DTSTAMP:20260421T004148
CREATED:20220731T225843Z
LAST-MODIFIED:20220731T230351Z
UID:3821-1662076800-1662335999@igwinery.com
SUMMARY:Utah Wine Festival
DESCRIPTION:The Utah Wine Festival is Utah’s premier event for wine and culinary experiences. Now\, in its fourth year\, the festival showcases only Utah wineries from around the state as well as the culinary creations of some of Utah’s best chefs; Experiences not available anywhere else. We hope you will come spend the weekend with us! We are confident you will have a great time and finish the Festival with a better understanding and appreciation of Utah Wines and local cuisine.
URL:https://igwinery.com/event/utah-wine-festival-2/
LOCATION:UT
CATEGORIES:Food and Wine
ATTACH;FMTTYPE=image/png:https://igwinery.com/wp-content/uploads/2022-UWF-Poster-17-×-11-in-4-×-2.25-in.png
END:VEVENT
BEGIN:VEVENT
DTSTART;TZID=America/Denver:20220813T160000
DTEND;TZID=America/Denver:20220813T190000
DTSTAMP:20260421T004148
CREATED:20210707T194543Z
LAST-MODIFIED:20220801T010326Z
UID:3185-1660406400-1660417200@igwinery.com
SUMMARY:Utah Wine Festival - Wine Among the Willows
DESCRIPTION:Did you know that there are wines produced right here in Utah? Swaner Preserve and the Utah Wine Festival have teamed up to bring a sampling of Utah wines to Park City! \nJoin us for a guided wine sampling tour around Swaner EcoCenter. Tickets include wine samples from 6 Utah wineries\, hors d’oeuvres from Hill’s Kitchen\, a souvenir wine glass\, and the opportunity to learn about the climate considerations and environmental benefits of choosing local Utah wines. \nRegistration required\, you must be 21 or older to attend.
URL:https://igwinery.com/event/https-www-eventbrite-com-e-wine-among-the-willows-tickets-371395432737/
LOCATION:Swaner Nature Preserve\, 1258 Center Dr.\, Park City\, UT\, 84098\, United States
END:VEVENT
BEGIN:VEVENT
DTSTART;TZID=America/Denver:20220812T180000
DTEND;TZID=America/Denver:20220812T210000
DTSTAMP:20260421T004148
CREATED:20220804T224940Z
LAST-MODIFIED:20220804T224940Z
UID:3838-1660327200-1660338000@igwinery.com
SUMMARY:Utah Wine Makers Dinner
DESCRIPTION:Join some of Utah’s most awarded wine makers as they present their wines in preparation for the Utah Wine Festival. This event will be a precursor to what you could expect to experience at the Utah Wine festival which takes place on Labor Day weekend. This event will be held on August 12 from 6-9pm at Carmine’s Restaurant 2477 Fort Union Blvd\, Cottonwood Heights. Class participants are expected to purchase their own dinner off the Carmine’s menu and tip their server accordingly.
URL:https://igwinery.com/event/utah-wine-makers-dinner/
LOCATION:Carmne’s Italian Restaurant\, 2477 Fort Union Blvd\, Salt Lake City\, 84121\, United States
ATTACH;FMTTYPE=image/png:https://igwinery.com/wp-content/uploads/Paint-Night-13.png
END:VEVENT
BEGIN:VEVENT
DTSTART;TZID=America/Denver:20220604T190000
DTEND;TZID=America/Denver:20220604T210000
DTSTAMP:20260421T004148
CREATED:20220505T010541Z
LAST-MODIFIED:20220505T011419Z
UID:3674-1654369200-1654376400@igwinery.com
SUMMARY:Wine Infused Ice Cream
DESCRIPTION:Finish the night off with a scoop of ice cream as Sub Zero infuses your favorite I/G Wines \ninto the perfect cold treat. \nWe opened our doors ten years ago on June 8\, 2012\, just a tiny little winery in a converted cottage behind the Iron Gate B&B. Today\, we are Utah’s oldest and largest winery. Our kids have grown up and become part of he business and we have worked hard to clear the path for the growth of the wine business in Southern Utah. We hope you’ll join us in raising a glass to honor the stories of our past\, and to celebrate the stories yet to be written.
URL:https://igwinery.com/event/wine-infused-ice-cream/
LOCATION:I/G Winery\, 59 West Center Street\, Cedar City\, UT\, 84720\, United States
END:VEVENT
END:VCALENDAR