BEGIN:VCALENDAR
VERSION:2.0
PRODID:-//I/G Winery - ECPv6.15.20//NONSGML v1.0//EN
CALSCALE:GREGORIAN
METHOD:PUBLISH
X-ORIGINAL-URL:https://igwinery.com
X-WR-CALDESC:Events for I/G Winery
REFRESH-INTERVAL;VALUE=DURATION:PT1H
X-Robots-Tag:noindex
X-PUBLISHED-TTL:PT1H
BEGIN:VTIMEZONE
TZID:America/Denver
BEGIN:DAYLIGHT
TZOFFSETFROM:-0700
TZOFFSETTO:-0600
TZNAME:MDT
DTSTART:20230312T090000
END:DAYLIGHT
BEGIN:STANDARD
TZOFFSETFROM:-0600
TZOFFSETTO:-0700
TZNAME:MST
DTSTART:20231105T080000
END:STANDARD
BEGIN:DAYLIGHT
TZOFFSETFROM:-0700
TZOFFSETTO:-0600
TZNAME:MDT
DTSTART:20240310T090000
END:DAYLIGHT
BEGIN:STANDARD
TZOFFSETFROM:-0600
TZOFFSETTO:-0700
TZNAME:MST
DTSTART:20241103T080000
END:STANDARD
BEGIN:DAYLIGHT
TZOFFSETFROM:-0700
TZOFFSETTO:-0600
TZNAME:MDT
DTSTART:20250309T090000
END:DAYLIGHT
BEGIN:STANDARD
TZOFFSETFROM:-0600
TZOFFSETTO:-0700
TZNAME:MST
DTSTART:20251102T080000
END:STANDARD
BEGIN:DAYLIGHT
TZOFFSETFROM:-0700
TZOFFSETTO:-0600
TZNAME:MDT
DTSTART:20260308T090000
END:DAYLIGHT
BEGIN:STANDARD
TZOFFSETFROM:-0600
TZOFFSETTO:-0700
TZNAME:MST
DTSTART:20261101T080000
END:STANDARD
END:VTIMEZONE
BEGIN:VEVENT
DTSTART;TZID=America/Denver:20241018T183000
DTEND;TZID=America/Denver:20241018T213000
DTSTAMP:20260420T225352
CREATED:20240927T222622Z
LAST-MODIFIED:20240927T222622Z
UID:5635-1729276200-1729287000@igwinery.com
SUMMARY:River Dan
DESCRIPTION:Come enjoy a smooth glass of wine or a smooth cocktail while you listen to the smooth sounds of Spanish Guitar with River Dan.  You’ll be glad you did.
URL:https://igwinery.com/event/river-dan/
LOCATION:UT
CATEGORIES:Food and Wine
END:VEVENT
BEGIN:VEVENT
DTSTART;TZID=America/Denver:20241026T180000
DTEND;TZID=America/Denver:20241026T200000
DTSTAMP:20260420T225352
CREATED:20241003T172501Z
LAST-MODIFIED:20241024T201420Z
UID:5648-1729965600-1729972800@igwinery.com
SUMMARY:Fun & Spooky Halloween Dinner
DESCRIPTION:I/G Winery and The Courtyard by Marriott hotel have teamed up to bring you another amazing dinner experience.  Join us for this 4-course meal prepared by The Courtyards Executive Chef Kevin Jerrold-Jones\, expertly paired with your favorite I/G Wines.  After dinner\, plan to join us on the patio for more fun and some great music.  The wearing of your favorite Halloween costume is recommended and encouraged.
URL:https://igwinery.com/event/fun-spooky-halloween-dinner/
LOCATION:Courtyard by Marriott\, 1294 South Interstate Drive\, Cedar City\, UT\, 84720\, United States
ATTACH;FMTTYPE=image/jpeg:https://igwinery.com/wp-content/uploads/Wedsite-dinner-pic.jpg
END:VEVENT
BEGIN:VEVENT
DTSTART;TZID=America/Denver:20241026T190000
DTEND;TZID=America/Denver:20241026T220000
DTSTAMP:20260420T225352
CREATED:20240910T004930Z
LAST-MODIFIED:20240910T004930Z
UID:5604-1729969200-1729980000@igwinery.com
SUMMARY:Live Music - Jackson Republic
DESCRIPTION:He’s back! After an absence that has had his fans on edge\, the man known as Jackson Republic is back at the winery.
URL:https://igwinery.com/event/live-music-jackson-republic/
LOCATION:UT
END:VEVENT
BEGIN:VEVENT
DTSTART;TZID=America/Denver:20241102T150000
DTEND;TZID=America/Denver:20241102T170000
DTSTAMP:20260420T225352
CREATED:20241004T210737Z
LAST-MODIFIED:20241004T210737Z
UID:5665-1730559600-1730566800@igwinery.com
SUMMARY:Michelle's Holiday Cocktail Class
DESCRIPTION:Join Michelle\, your favorite mixologist\, as she teaches you how to create 3 exquisite holiday cocktails.  These classes are always fun\, hands-on learning\, and you will leave knowing how to impress your friends and family with your cocktail skills. You’ll make a Pomegranate Drop\, Egg Nog for Santa and a Cranberry Ginger Fizz. Get your tickets today.
URL:https://igwinery.com/event/michelles-holiday-cocktail-class/
LOCATION:UT
END:VEVENT
BEGIN:VEVENT
DTSTART;TZID=America/Denver:20241102T180000
DTEND;TZID=America/Denver:20241102T210000
DTSTAMP:20260420T225352
CREATED:20241019T175928Z
LAST-MODIFIED:20241019T175928Z
UID:5709-1730570400-1730581200@igwinery.com
SUMMARY:River Dan and Spanish Guitar
DESCRIPTION:The ultimate pairing of smooth guitar and smooth wine. Come unwind with us as you enjoy a glass of our world class wines or a handcrafted cocktail and enjoy the serenade of Dan Meraz playing Spanish guitar.
URL:https://igwinery.com/event/river-dan-and-spanish-guitar/
LOCATION:UT
CATEGORIES:Live Music
ATTACH;FMTTYPE=image/png:https://igwinery.com/wp-content/uploads/River-Dan-3.png
END:VEVENT
BEGIN:VEVENT
DTSTART;TZID=America/Denver:20241116T180000
DTEND;TZID=America/Denver:20241116T210000
DTSTAMP:20260420T225352
CREATED:20240910T011406Z
LAST-MODIFIED:20241112T215004Z
UID:5607-1731780000-1731790800@igwinery.com
SUMMARY:Live Music - The Legendary\, Jon Yerby
DESCRIPTION:Born in Celle\, Germany\, Dr. Jon Paul Yerby has performed across four continents and served on the faculty of five major Universities. Currently\, Yerby and his wife Alexandra accepted positions at Southern Utah University in Cedar City\, Utah.  Jon’ teachers and mentors include such luminaries as Eliot Fisk and Oscar Ghiglia\,
URL:https://igwinery.com/event/live-music-jon-yerby-2/
LOCATION:UT
CATEGORIES:Live Music
ATTACH;FMTTYPE=image/png:https://igwinery.com/wp-content/uploads/Jon-Yerby-Promo-1.png
END:VEVENT
BEGIN:VEVENT
DTSTART;TZID=America/Denver:20241122T183000
DTEND;TZID=America/Denver:20241122T213000
DTSTAMP:20260420T225352
CREATED:20240910T033720Z
LAST-MODIFIED:20241112T214951Z
UID:5610-1732300200-1732311000@igwinery.com
SUMMARY:Live Music - Lynsey's Lounge
DESCRIPTION:This charming and talented hometown favorite is back!
URL:https://igwinery.com/event/live-music-lynseys-lounge-4/
LOCATION:UT
CATEGORIES:Live Music
ATTACH;FMTTYPE=image/png:https://igwinery.com/wp-content/uploads/Lynseys-Lounge-1.png
END:VEVENT
BEGIN:VEVENT
DTSTART;TZID=America/Denver:20241123T190000
DTEND;TZID=America/Denver:20241123T220000
DTSTAMP:20260420T225352
CREATED:20241004T172503Z
LAST-MODIFIED:20241112T214940Z
UID:5657-1732388400-1732399200@igwinery.com
SUMMARY:Jackson Republic
DESCRIPTION:Jackson Republic is an Americana Singer/Songwriter with deep Texas roots. Jackson released his self-titled debut EP in late 2020 with the help of the Coletrains in their southern Arizona studio. Come early so you’re sure to get a seat.
URL:https://igwinery.com/event/jackson-republic/
LOCATION:UT
CATEGORIES:Live Music
ATTACH;FMTTYPE=image/png:https://igwinery.com/wp-content/uploads/JACKSON-REPUBLIC-2-1.png
END:VEVENT
BEGIN:VEVENT
DTSTART;TZID=America/Denver:20241130T180000
DTEND;TZID=America/Denver:20241130T210000
DTSTAMP:20260420T225352
CREATED:20241018T195048Z
LAST-MODIFIED:20241112T214932Z
UID:5703-1732989600-1733000400@igwinery.com
SUMMARY:The Music of Mr O.K.
DESCRIPTION:Mr. OK’s Love loop music weaves diverse groove stylings of reggae\, funk\, and folk into pop songs and originals that hold true to his foundations of thoughtful lyrics that render deep feels.
URL:https://igwinery.com/event/the-music-of-mr-o-k/
LOCATION:UT
CATEGORIES:Live Music
ATTACH;FMTTYPE=image/png:https://igwinery.com/wp-content/uploads/Mr-OK-at-the-Winery.png
END:VEVENT
BEGIN:VEVENT
DTSTART;TZID=America/Denver:20241207T180000
DTEND;TZID=America/Denver:20241207T200000
DTSTAMP:20260420T225352
CREATED:20241122T034509Z
LAST-MODIFIED:20241126T005614Z
UID:5775-1733594400-1733601600@igwinery.com
SUMMARY:Wine Club Members Holiday Party
DESCRIPTION:Come join fellow wine club members for appetizers and hot bites and be the first to try our new rye-barrel aged Seduction that you can pre-order (bottles/cases) before it gets released to the public. We will also be sneaking into our library wines and trying a few of the oldies-but-goodies.  Michelle has put together a few holiday cocktails as well that you may wish to try while you’re here.  It promises to be a fun night of food\, special wines and good friends. CLUB MEMBERS MAY BRING ONE GUEST ONLY so please be sure to RSVP for yourself and your guest as needed.
URL:https://igwinery.com/event/wine-club-members-only-christmas-party-2/
LOCATION:I/G Winery\, 59 West Center Street\, Cedar City\, UT\, 84720\, United States
CATEGORIES:Wine Club Member Event
ATTACH;FMTTYPE=image/png:https://igwinery.com/wp-content/uploads/Club-Member-Holiday-Party.png
ORGANIZER;CN="I/G Entertainment Production":MAILTO:info@igwinery.com
END:VEVENT
BEGIN:VEVENT
DTSTART;TZID=America/Denver:20241207T190000
DTEND;TZID=America/Denver:20241207T220000
DTSTAMP:20260420T225352
CREATED:20241204T041020Z
LAST-MODIFIED:20241204T041405Z
UID:5877-1733598000-1733608800@igwinery.com
SUMMARY:The Music of Mr. O.K.
DESCRIPTION:Back by popular demand!!   Mr. OK’s Love loop music weaves diverse groove stylings of reggae\, funk\, and folk into pop songs and originals that hold true to his foundations of thoughtful lyrics that render deep feels.
URL:https://igwinery.com/event/the-music-of-mr-o-k-2/
LOCATION:I/G Winery\, 59 West Center Street\, Cedar City\, UT\, 84720\, United States
CATEGORIES:Live Music
ATTACH;FMTTYPE=image/png:https://igwinery.com/wp-content/uploads/Mr-OK-at-the-Winery-1.png
ORGANIZER;CN="I/G Entertainment Production":MAILTO:info@igwinery.com
END:VEVENT
BEGIN:VEVENT
DTSTART;TZID=America/Denver:20241213T183000
DTEND;TZID=America/Denver:20241213T213000
DTSTAMP:20260420T225352
CREATED:20240910T034017Z
LAST-MODIFIED:20241209T213104Z
UID:5616-1734114600-1734125400@igwinery.com
SUMMARY:Live Music - Lynsey's Christmas Lounge
DESCRIPTION:Come enjoy the wonderful song stylings of Lynsey\, live at the winery and catch a few Christmas classics thrown in as well.
URL:https://igwinery.com/event/live-music-lynseys-christmas-lounge/
LOCATION:UT
CATEGORIES:Live Music
ATTACH;FMTTYPE=image/png:https://igwinery.com/wp-content/uploads/Live-Music-at-the-Winery.png
END:VEVENT
BEGIN:VEVENT
DTSTART;TZID=America/Denver:20241221T180000
DTEND;TZID=America/Denver:20241221T210000
DTSTAMP:20260420T225352
CREATED:20241209T232845Z
LAST-MODIFIED:20241210T220056Z
UID:5885-1734804000-1734814800@igwinery.com
SUMMARY:Live Music - Adam Jones - Wine and Music Pairing
DESCRIPTION:Did you know the right music with the right wine can really make a difference.  They is why they say\, “wine is liquid music”.  But don’t just our word for it\, come join classical training pianist Adam Jones at the winery and try a special flight of our Roussanne\, Alicanté and 9 Barrels and see if you can sense how they taste different with each piece of music.
URL:https://igwinery.com/event/adam-jones-wine-and-music-pairing/
LOCATION:UT
CATEGORIES:Live Music
ORGANIZER;CN="I/G Entertainment Production":MAILTO:info@igwinery.com
END:VEVENT
BEGIN:VEVENT
DTSTART;TZID=America/Denver:20241231T210000
DTEND;TZID=America/Denver:20241231T210000
DTSTAMP:20260420T225352
CREATED:20241223T204533Z
LAST-MODIFIED:20241223T204634Z
UID:5931-1735678800-1735678800@igwinery.com
SUMMARY:Live Music - NYE - The Blue Ponies
DESCRIPTION:Todd Robert Petersen and Issac (Ike) Petersen combine their musical talents and bring them to the winery for New Years Eve. Come enjoy the bluesy-jazz sounds of this father and son duo at the winery.
URL:https://igwinery.com/event/live-music-nye-the-blue-ponies/
LOCATION:I/G Winery\, 59 West Center Street\, Cedar City\, UT\, 84720\, United States
CATEGORIES:Live Music
ATTACH;FMTTYPE=image/png:https://igwinery.com/wp-content/uploads/The-Blue-Ponies.png
ORGANIZER;CN="I/G Entertainment Production":MAILTO:info@igwinery.com
END:VEVENT
BEGIN:VEVENT
DTSTART;TZID=America/Denver:20250106T180000
DTEND;TZID=America/Denver:20250106T210000
DTSTAMP:20260420T225352
CREATED:20241004T221912Z
LAST-MODIFIED:20241216T205436Z
UID:5673-1736186400-1736197200@igwinery.com
SUMMARY:I/G Confidential
DESCRIPTION:IYKYK \nIYDK… ask around
URL:https://igwinery.com/event/i-g-confidential/
LOCATION:UT
END:VEVENT
BEGIN:VEVENT
DTSTART;TZID=America/Denver:20250111T180000
DTEND;TZID=America/Denver:20250111T210000
DTSTAMP:20260420T225352
CREATED:20241210T202612Z
LAST-MODIFIED:20241210T202612Z
UID:5889-1736618400-1736629200@igwinery.com
SUMMARY:Live Music - The Legendary Jon Yerby
DESCRIPTION:Born in Celle\, Germany\, Dr. Jon Paul Yerby has performed across four continents and served on the faculty of five major Universities. Currently\, Yerby and his wife Alexandra accepted positions at Southern Utah University in Cedar City\, Utah.  Jon’ teachers and mentors include such luminaries as Eliot Fisk and Oscar Ghiglia\,
URL:https://igwinery.com/event/live-music-the-legendary-jon-yerby/
LOCATION:I/G Winery\, 59 West Center Street\, Cedar City\, UT\, 84720\, United States
CATEGORIES:Live Music
ATTACH;FMTTYPE=image/png:https://igwinery.com/wp-content/uploads/Jon-Yerby-Promo-2.png
ORGANIZER;CN="I/G Entertainment Production":MAILTO:info@igwinery.com
END:VEVENT
BEGIN:VEVENT
DTSTART;TZID=America/Denver:20250118T183000
DTEND;TZID=America/Denver:20250118T213000
DTSTAMP:20260420T225352
CREATED:20241217T001840Z
LAST-MODIFIED:20241217T002634Z
UID:5904-1737225000-1737235800@igwinery.com
SUMMARY:Live Music - Mr. O.K.
DESCRIPTION:Charlie Ol’Grady Kessner\, better known by his stage name “Mr. OK” brings his popular sound that he calls\, Love Loop Music\, back to the winery.  OK Charlie is always popular when we have him here at the winery and you need to come see why.  He weaves diverse groove stylings of reggae\, funk\, and folk into pop songs and originals that hold true to his foundations of thoughtful lyrics that render those deep feels.
URL:https://igwinery.com/event/live-music-mr-o-k/
LOCATION:I/G Winery\, 59 West Center Street\, Cedar City\, UT\, 84720\, United States
CATEGORIES:Live Music
ATTACH;FMTTYPE=image/png:https://igwinery.com/wp-content/uploads/Mr-OK-at-the-Winery-1-18.png
ORGANIZER;CN="I/G Entertainment Production":MAILTO:info@igwinery.com
END:VEVENT
BEGIN:VEVENT
DTSTART;TZID=America/Denver:20250125T180000
DTEND;TZID=America/Denver:20250125T210000
DTSTAMP:20260420T225352
CREATED:20250124T210313Z
LAST-MODIFIED:20250124T210313Z
UID:6226-1737828000-1737838800@igwinery.com
SUMMARY:Live Music - Adam Jones
DESCRIPTION:Come join us for a great evening of music with the keyboard stylings of Mr. Adam Jones. A Cedar City local and accomplished keyboardist Adam’s music is always a perfect pairing with I/G Wines.
URL:https://igwinery.com/event/live-music-adam-jones/
LOCATION:I/G Winery\, 59 West Center Street\, Cedar City\, UT\, 84720\, United States
CATEGORIES:Live Music
ATTACH;FMTTYPE=image/png:https://igwinery.com/wp-content/uploads/ADAM-JONES-2.png
ORGANIZER;CN="I/G Entertainment Production":MAILTO:info@igwinery.com
END:VEVENT
BEGIN:VEVENT
DTSTART;TZID=America/Denver:20250201T180000
DTEND;TZID=America/Denver:20250201T210000
DTSTAMP:20260420T225352
CREATED:20241217T193437Z
LAST-MODIFIED:20241217T193437Z
UID:5913-1738432800-1738443600@igwinery.com
SUMMARY:Live Music - The Internationally Acclaimed Dr. Jon Yerby
DESCRIPTION:Jon is always popular when he plays here at the winery and we are grateful to have him back for a few dates in 2025.  Dr. Jon Yerby hails from Celle\, Germany and has performed across four continents and served on the faculty of five major Universities.  Yerby currently mentors rising young musical talents at Southern Utah University here in Cedar City.  Jon’s teachers and mentors are varied but include such international luminaries as Eliot Fisk and Italian legend Oscar Ghiglia.
URL:https://igwinery.com/event/live-music-the-internationally-acclaimed-dr-jon-yerby-2/
LOCATION:I/G Winery\, 59 West Center Street\, Cedar City\, UT\, 84720\, United States
CATEGORIES:Live Music
ATTACH;FMTTYPE=image/png:https://igwinery.com/wp-content/uploads/Jon-Yerby-Promo-2-1.png
ORGANIZER;CN="I/G Entertainment Production":MAILTO:info@igwinery.com
END:VEVENT
BEGIN:VEVENT
DTSTART;TZID=America/Denver:20250205T180000
DTEND;TZID=America/Denver:20250205T200000
DTSTAMP:20260420T225352
CREATED:20250120T051302Z
LAST-MODIFIED:20250120T051302Z
UID:6209-1738778400-1738785600@igwinery.com
SUMMARY:Let's Paint With Reggie
DESCRIPTION:Join Reggie here at the winery for another fun night of wine and painting.  Paint your latest creation among the tanks and barrels of our production room and enjoy a glass of wine or an amazing cocktail.  The paint nights at the winery sell quickly so get over to Let’s Paint With Reggie on Instagram or Facebook and follow the link to get your tickets.
URL:https://igwinery.com/event/lets-paint-with-reggie/
LOCATION:UT
CATEGORIES:Paint Night
ATTACH;FMTTYPE=image/png:https://igwinery.com/wp-content/uploads/Lets-Paint-2-5-25.png
END:VEVENT
BEGIN:VEVENT
DTSTART;TZID=America/Denver:20250212T180000
DTEND;TZID=America/Denver:20250212T200000
DTSTAMP:20260420T225352
CREATED:20250126T014155Z
LAST-MODIFIED:20250126T014155Z
UID:6228-1739383200-1739390400@igwinery.com
SUMMARY:Love Cookies; Cookie Decorating and Wine Night
DESCRIPTION:Come and join us for a fun\, Valentine’s themed cookie decorating class! Perfect for Valentine’s or Galentine’s alike! Come solo or bring your friends or significant other for a deliciously sweet evening. Sip some wine during this casual class where each person will work with Royal Icing as they decorate 6 Valentine’s themed sugar cookies. With step-by-step instruction\, you will be guided through the process of working with Royal Icing\, basic decorating techniques\, how to correct mistakes\, tips and tricks with cookie decorating\, and how to create fun and tasty cookies for any occasion. This is a beginner-level course and includes 6 un-decorated sugar cookies\, royal icing\, piping bags\, all sprinkles and decor\, and all tools needed to decorate the cookies. The class will conclude with the option to take Instagram-worthy photos at the themed photo booth\, and each participant will go home with their 6 decorated cookies to enjoy.
URL:https://igwinery.com/event/love-cookies-cookie-decorating-and-wine-night/
LOCATION:I/G Winery\, 59 West Center Street\, Cedar City\, UT\, 84720\, United States
CATEGORIES:Food and Wine
ATTACH;FMTTYPE=image/png:https://igwinery.com/wp-content/uploads/Love-Cookies.png
ORGANIZER;CN="Love Cookies":MAILTO:lovecookiesbakeshop@gmail.com
END:VEVENT
BEGIN:VEVENT
DTSTART;TZID=America/Denver:20250214T190000
DTEND;TZID=America/Denver:20250214T210000
DTSTAMP:20260420T225352
CREATED:20250209T005105Z
LAST-MODIFIED:20250209T005105Z
UID:6254-1739559600-1739566800@igwinery.com
SUMMARY:Courtyard Marriott Valentines Dinner with I/G Wines
DESCRIPTION:Still looking for the perfect thing to do with your special Valentine?  Well look no more…. Come join us at the Courtyard Marriott and enjoy a three-course gourmet dinner\, each course expertly paired with I/G Wines to enhance the experience. Whether you’re celebrating with a special someone or a group of friends\, this is the perfect way to indulge in the finer things in life.
URL:https://igwinery.com/event/courtyard-marriott-valentines-dinner-with-i-g-wines/
LOCATION:Courtyard by Marriott\, 1294 South Interstate Drive\, Cedar City\, UT\, 84720\, United States
CATEGORIES:Food and Wine
ATTACH;FMTTYPE=image/png:https://igwinery.com/wp-content/uploads/Valentines-Dinner-CY.png
ORGANIZER;CN="Do U Events":MAILTO:douevents.utah@gmail.com
END:VEVENT
BEGIN:VEVENT
DTSTART;TZID=America/Denver:20250215T170000
DTEND;TZID=America/Denver:20250215T190000
DTSTAMP:20260420T225352
CREATED:20250115T043146Z
LAST-MODIFIED:20250209T004305Z
UID:6204-1739638800-1739646000@igwinery.com
SUMMARY:Our Day-After Valentines Casual Dinner 2025
DESCRIPTION:Join us on Saturday February 15th for this fun night of food fun and chocolate.  We’ve got pink riesling\, fun food and some great chocolate to pair with our red wines.  To get your tickets call the winery at 435-867-9463 or stop in and get your “couples” tickets today.
URL:https://igwinery.com/event/valentines-dinner-2025/
LOCATION:UT
CATEGORIES:Food and Wine
ATTACH;FMTTYPE=image/png:https://igwinery.com/wp-content/uploads/2.png
END:VEVENT
BEGIN:VEVENT
DTSTART;TZID=America/Denver:20250228T180000
DTEND;TZID=America/Denver:20250228T210000
DTSTAMP:20260420T225352
CREATED:20241110T042319Z
LAST-MODIFIED:20241110T042520Z
UID:5766-1740765600-1740776400@igwinery.com
SUMMARY:Live Music - Luna Worldcast
DESCRIPTION:This versatile young singer/songwriter is going to unpack her acoustic guitar and set up in the winery and share her folk/bluesy/pop music with us for a very special 2 night engagement.  Luna is currently working her way through a national concert tour and we were lucky enough to convince her to stop for a couple nights in Cedar City and share her talents with everyone at the winery.  Come in and relax with a bottle of wine\, and enjoy this rare opportunity to see Luna Worldcast live and up close in the very intimate setting of I/G Winery’s tasting room.
URL:https://igwinery.com/event/live-music-luna-worldcast/
LOCATION:I/G Winery\, 59 West Center Street\, Cedar City\, UT\, 84720\, United States
CATEGORIES:Live Music
ATTACH;FMTTYPE=image/png:https://igwinery.com/wp-content/uploads/Luna-Worldcast.png
ORGANIZER;CN="I/G Entertainment Production":MAILTO:info@igwinery.com
END:VEVENT
BEGIN:VEVENT
DTSTART;TZID=America/Denver:20250301T180000
DTEND;TZID=America/Denver:20250301T210000
DTSTAMP:20260420T225352
CREATED:20241110T042739Z
LAST-MODIFIED:20241110T042739Z
UID:5769-1740852000-1740862800@igwinery.com
SUMMARY:Live Music - Luna Worldcast
DESCRIPTION:This versatile young singer/songwriter is going to unpack her acoustic guitar and set up in the winery and share her folk/bluesy/pop music with us for a very special 2 night engagement.  Luna is currently working her way through a national concert tour and we were lucky enough to convince her to stop for a couple nights in Cedar City and share her talents with everyone at the winery.  Come in and relax with a bottle of wine\, and enjoy this rare opportunity to see Luna Worldcast live and up close in the very intimate setting of I/G Winery’s tasting room.
URL:https://igwinery.com/event/live-music-luna-worldcast-2/
LOCATION:UT
CATEGORIES:Live Music
ATTACH;FMTTYPE=image/png:https://igwinery.com/wp-content/uploads/Luna-Worldcast.png
ORGANIZER;CN="I/G Entertainment Production":MAILTO:info@igwinery.com
END:VEVENT
BEGIN:VEVENT
DTSTART;TZID=America/Denver:20250303T190000
DTEND;TZID=America/Denver:20250303T220000
DTSTAMP:20260420T225352
CREATED:20250209T010348Z
LAST-MODIFIED:20250209T010348Z
UID:6259-1741028400-1741039200@igwinery.com
SUMMARY:I/G Confidential
DESCRIPTION:Join us for this very exclusive once monthly opportunity to experience Southern Utah’s only speakeasy.  I/G Confidential offers the opportunity to indulge in a pinch of class and a night of very upscale cocktails.  Be sure you have your secret card and the password.  You can get them by stopping into the winery and asking a staff member.  When you arrive at the door of the speakeasy\, give the card and the password to the doorman (lest you be refused entry). If you pass the test\, you will be allowed in and shown a seat\, then given the secret rules and an invitation to relax and let us custom curate the perfect cocktail just for you.
URL:https://igwinery.com/event/i-g-confidential-3/
LOCATION:I/G Winery\, 59 West Center Street\, Cedar City\, UT\, 84720\, United States
CATEGORIES:Speakeasy
ATTACH;FMTTYPE=image/png:https://igwinery.com/wp-content/uploads/March-Confidential.png
ORGANIZER;CN="I/G Entertainment Production":MAILTO:info@igwinery.com
END:VEVENT
BEGIN:VEVENT
DTSTART;TZID=America/Denver:20250311T180000
DTEND;TZID=America/Denver:20250311T200000
DTSTAMP:20260420T225352
CREATED:20250209T002709Z
LAST-MODIFIED:20250210T224550Z
UID:6249-1741716000-1741723200@igwinery.com
SUMMARY:Love Cookies: Cookie Decorating and Wine Night
DESCRIPTION:Come and join us for this fun cookie decorating class!  Bring yourself or bring your friends for a deliciously sweet evening. Sip some wine during this casual class where each person will work with Royal Icing as they decorate 6 specially chosen sugar cookies. With step-by-step instruction\, you will be guided through the process of working with Royal Icing\, basic decorating techniques\, how to correct mistakes\, tips and tricks with cookie decorating\, and how to create fun and tasty cookies for any occasion. This is a beginner-level course and includes 6 un-decorated sugar cookies\, royal icing\, piping bags\, all sprinkles and decor\, and all tools needed to decorate the cookies. The class will conclude with the option to take Instagram-worthy photos at the themed photo booth\, and each participant will go home with their 6 decorated cookies to enjoy.
URL:https://igwinery.com/event/love-cookies-cookie-decorating-and-wine-night-2/
LOCATION:I/G Winery\, 59 West Center Street\, Cedar City\, UT\, 84720\, United States
CATEGORIES:Cookie Decorating & Wine
ATTACH;FMTTYPE=image/png:https://igwinery.com/wp-content/uploads/Love-Cookies-March.png
ORGANIZER;CN="Love Cookies":MAILTO:lovecookiesbakeshop@gmail.com
END:VEVENT
BEGIN:VEVENT
DTSTART;TZID=America/Denver:20250314T183000
DTEND;TZID=America/Denver:20250314T213000
DTSTAMP:20260420T225352
CREATED:20241217T002534Z
LAST-MODIFIED:20241217T002534Z
UID:5909-1741977000-1741987800@igwinery.com
SUMMARY:Live Music - Mr. O.K. Charlie
DESCRIPTION:Charlie Ol’Grady Kessner\, better known by his stage name “Mr. OK” brings his popular sound that he calls\, Love Loop Music\, back to the winery.  OK Charlie is always popular when we have him here at the winery and you need to come see why.  He weaves diverse groove stylings of reggae\, funk\, and folk into pop songs and originals that hold true to his foundations of thoughtful lyrics that render those deep feels.
URL:https://igwinery.com/event/live-music-mr-o-k-charlie/
LOCATION:I/G Winery\, 59 West Center Street\, Cedar City\, UT\, 84720\, United States
CATEGORIES:Live Music
ATTACH;FMTTYPE=image/png:https://igwinery.com/wp-content/uploads/Mr-OK-at-the-Winery-2.png
ORGANIZER;CN="I/G Entertainment Production":MAILTO:info@igwinery.com
END:VEVENT
BEGIN:VEVENT
DTSTART;TZID=America/Denver:20250322T180000
DTEND;TZID=America/Denver:20250322T210000
DTSTAMP:20260420T225352
CREATED:20241216T234429Z
LAST-MODIFIED:20241216T234429Z
UID:5898-1742666400-1742677200@igwinery.com
SUMMARY:Live Music - The Internationally Acclaimed Dr. Jon Yerby
DESCRIPTION:Jon is always popular when he plays here at the winery and we are grateful to have him back for a few dates in 2025.  Dr. Jon Yerby hails from Celle\, Germany and has performed across four continents and served on the faculty of five major Universities.  Yerby currently mentors rising young musical talents at Southern Utah University here in Cedar City.  Jon’s teachers and mentors are varied but include such international luminaries as Eliot Fisk and Italian legend Oscar Ghiglia.
URL:https://igwinery.com/event/live-music-the-internationally-acclaimed-dr-jon-yerby/
LOCATION:I/G Winery\, 59 West Center Street\, Cedar City\, UT\, 84720\, United States
CATEGORIES:Live Music
ATTACH;FMTTYPE=image/png:https://igwinery.com/wp-content/uploads/Jon-Yerby-Promo-3.png
ORGANIZER;CN="I/G Entertainment Production":MAILTO:info@igwinery.com
END:VEVENT
BEGIN:VEVENT
DTSTART;TZID=America/Denver:20250405T180000
DTEND;TZID=America/Denver:20250405T200000
DTSTAMP:20260420T225352
CREATED:20250312T191003Z
LAST-MODIFIED:20250312T191058Z
UID:6266-1743876000-1743883200@igwinery.com
SUMMARY:Michelle's 3 Martini Class
DESCRIPTION:Come join Michelle for another one of her fun and educational cocktail classes.  This time Michelle is going to teach everyone how to make 3 of our most popular martini’s.  Come on out and learn to make our orange pomegranate martini\, ginger martini\, and the espresso martini.  It will be a lot of fun for everyone.
URL:https://igwinery.com/event/michelles-3-martini-class/
LOCATION:UT
CATEGORIES:Cocktail Classes
ATTACH;FMTTYPE=image/png:https://igwinery.com/wp-content/uploads/Michelles-Martini-Class.png
ORGANIZER;CN="I/G Entertainment Production":MAILTO:info@igwinery.com
END:VEVENT
END:VCALENDAR