BEGIN:VCALENDAR
VERSION:2.0
PRODID:-//I/G Winery - ECPv6.15.20//NONSGML v1.0//EN
CALSCALE:GREGORIAN
METHOD:PUBLISH
X-WR-CALNAME:I/G Winery
X-ORIGINAL-URL:https://igwinery.com
X-WR-CALDESC:Events for I/G Winery
REFRESH-INTERVAL;VALUE=DURATION:PT1H
X-Robots-Tag:noindex
X-PUBLISHED-TTL:PT1H
BEGIN:VTIMEZONE
TZID:America/Denver
BEGIN:DAYLIGHT
TZOFFSETFROM:-0700
TZOFFSETTO:-0600
TZNAME:MDT
DTSTART:20230312T090000
END:DAYLIGHT
BEGIN:STANDARD
TZOFFSETFROM:-0600
TZOFFSETTO:-0700
TZNAME:MST
DTSTART:20231105T080000
END:STANDARD
BEGIN:DAYLIGHT
TZOFFSETFROM:-0700
TZOFFSETTO:-0600
TZNAME:MDT
DTSTART:20240310T090000
END:DAYLIGHT
BEGIN:STANDARD
TZOFFSETFROM:-0600
TZOFFSETTO:-0700
TZNAME:MST
DTSTART:20241103T080000
END:STANDARD
BEGIN:DAYLIGHT
TZOFFSETFROM:-0700
TZOFFSETTO:-0600
TZNAME:MDT
DTSTART:20250309T090000
END:DAYLIGHT
BEGIN:STANDARD
TZOFFSETFROM:-0600
TZOFFSETTO:-0700
TZNAME:MST
DTSTART:20251102T080000
END:STANDARD
END:VTIMEZONE
BEGIN:VEVENT
DTSTART;TZID=America/Denver:20241011T180000
DTEND;TZID=America/Denver:20241011T210000
DTSTAMP:20260420T225216
CREATED:20240927T231846Z
LAST-MODIFIED:20241002T000254Z
UID:5639-1728669600-1728680400@igwinery.com
SUMMARY:The Incomparable Art Kaufman
DESCRIPTION:Come enjoy the smooth Jazz stylings of Cedar City’s own Art Kaufman as you sip a glass of fine wine or a hand crafted cocktail.
URL:https://igwinery.com/event/the-incomparable-art-kaufman/
LOCATION:UT
END:VEVENT
BEGIN:VEVENT
DTSTART;TZID=America/Denver:20241008T060000
DTEND;TZID=America/Denver:20241008T200000
DTSTAMP:20260420T225216
CREATED:20241004T211434Z
LAST-MODIFIED:20241004T221659Z
UID:5670-1728367200-1728417600@igwinery.com
SUMMARY:The Sounds of Spanish Guitar with River Dan
DESCRIPTION:Join is for our first Tacos\, Tequila and Tempranillo night at the winery and listen to the relaxing sounds of River Dan on the Spanish guitar as you see how many $3 taco you can eat while trying one of our amazing margarita flights.
URL:https://igwinery.com/event/the-sounds-of-spanish-guitar-with-river-dan/
LOCATION:I/G Winery\, 59 West Center Street\, Cedar City\, UT\, 84720\, United States
END:VEVENT
BEGIN:VEVENT
DTSTART;TZID=America/Denver:20240928T183000
DTEND;TZID=America/Denver:20240928T213000
DTSTAMP:20260420T225216
CREATED:20240909T235820Z
LAST-MODIFIED:20240910T000005Z
UID:5597-1727548200-1727559000@igwinery.com
SUMMARY:Live Music - Lynsey's Lounge
DESCRIPTION:Come join us for regular favorite Lynsey as she takes over the tasting room and makes it her own lounge.
URL:https://igwinery.com/event/live-music-lynseys-lounge-3/
LOCATION:UT
END:VEVENT
BEGIN:VEVENT
DTSTART;TZID=America/Denver:20240927T180000
DTEND;TZID=America/Denver:20240927T193000
DTSTAMP:20260420T225216
CREATED:20240926T030256Z
LAST-MODIFIED:20240926T030256Z
UID:5628-1727460000-1727465400@igwinery.com
SUMMARY:MB3 Jazz Band
DESCRIPTION:Come enjoy the patio and listen to Cedar City’s favorite MB3 Jazz Band for their last performance of the Cedar City Art Walk 2024.  Have a glass of wine or a cocktail and enjoy the smooth sounds with us.
URL:https://igwinery.com/event/mb3-jazz-band/
LOCATION:UT
ATTACH;FMTTYPE=image/jpeg:https://igwinery.com/wp-content/uploads/MB3-Midnight-Blue-Blues-Band.jpeg
END:VEVENT
BEGIN:VEVENT
DTSTART;TZID=America/Denver:20240920T183000
DTEND;TZID=America/Denver:20240920T213000
DTSTAMP:20260420T225216
CREATED:20240910T041228Z
LAST-MODIFIED:20240910T042513Z
UID:5619-1726857000-1726867800@igwinery.com
SUMMARY:Live Music - Lillian VanDaam
DESCRIPTION:Come join us for this one time only performance by rising artist Lillian VanDaam.  A Utah native currently working and recording In Los Angeles\, we were pleased when Lillian agreed to come by the winery and sing for us before she heads back to the City of Angels.  We think you are going to enjoy the style and flair of this talented artist.
URL:https://igwinery.com/event/live-music-lillian-vandaam/
LOCATION:UT
END:VEVENT
BEGIN:VEVENT
DTSTART;TZID=America/Denver:20240913T060000
DTEND;TZID=America/Denver:20240913T200000
DTSTAMP:20260420T225216
CREATED:20240909T235128Z
LAST-MODIFIED:20240910T003416Z
UID:5594-1726207200-1726257600@igwinery.com
SUMMARY:Live Music - Art Kaufman
DESCRIPTION:Come enjoy the smooth Jazz stylings of Cedar City’s own Art Kaufman as you sip a glass of fine wine or a hand crafted cocktail.
URL:https://igwinery.com/event/live-music-art-kaufman-5/
LOCATION:UT
END:VEVENT
BEGIN:VEVENT
DTSTART;TZID=America/Denver:20240907T190000
DTEND;TZID=America/Denver:20240907T220000
DTSTAMP:20260420T225216
CREATED:20240715T233412Z
LAST-MODIFIED:20240730T031811Z
UID:5507-1725735600-1725746400@igwinery.com
SUMMARY:Live Music - Micheal Gabriel
DESCRIPTION:
URL:https://igwinery.com/event/live-music-micheal-gabriel/
LOCATION:UT
END:VEVENT
BEGIN:VEVENT
DTSTART;TZID=America/Denver:20240906T190000
DTEND;TZID=America/Denver:20240906T220000
DTSTAMP:20260420T225216
CREATED:20240715T233811Z
LAST-MODIFIED:20240730T031906Z
UID:5510-1725649200-1725660000@igwinery.com
SUMMARY:Live Music - Michael Gabriel
DESCRIPTION:
URL:https://igwinery.com/event/live-music-michael-gabriel/
LOCATION:UT
END:VEVENT
BEGIN:VEVENT
DTSTART;TZID=America/Denver:20240824T190000
DTEND;TZID=America/Denver:20240824T220000
DTSTAMP:20260420T225216
CREATED:20240524T051857Z
LAST-MODIFIED:20240729T213316Z
UID:5403-1724526000-1724536800@igwinery.com
SUMMARY:Live Music - Jon Yerby
DESCRIPTION:
URL:https://igwinery.com/event/live-music-jon-yerby/
LOCATION:UT
END:VEVENT
BEGIN:VEVENT
DTSTART;TZID=America/Denver:20240817T180000
DTEND;TZID=America/Denver:20240817T210000
DTSTAMP:20260420T225216
CREATED:20240727T200342Z
LAST-MODIFIED:20240808T174603Z
UID:5531-1723917600-1723928400@igwinery.com
SUMMARY:River Dan & The Sounds of Spanish Guitar
DESCRIPTION:
URL:https://igwinery.com/event/river-dan-the-sounds-of-spanish-guitar/
LOCATION:UT
END:VEVENT
BEGIN:VEVENT
DTSTART;TZID=America/Denver:20240814T060000
DTEND;TZID=America/Denver:20240814T200000
DTSTAMP:20260420T225216
CREATED:20240806T180136Z
LAST-MODIFIED:20240806T180136Z
UID:5576-1723615200-1723665600@igwinery.com
SUMMARY:Let's Paint - Cactus Wine Glasses
DESCRIPTION:Join us tonight for all the fun.  Let’s Paint “Cactus Wine Glasses” or you can create your own design. All supplies are provided. Take home your two wine glasses. Ages 21 and up only. Sorry\, no outside beverages allowed. No experience necessary.
URL:https://igwinery.com/event/lets-paint-cactus-wine-glasses/
LOCATION:UT
END:VEVENT
BEGIN:VEVENT
DTSTART;TZID=America/Denver:20240810T183000
DTEND;TZID=America/Denver:20240810T213000
DTSTAMP:20260420T225216
CREATED:20240524T051627Z
LAST-MODIFIED:20240808T194338Z
UID:5401-1723314600-1723325400@igwinery.com
SUMMARY:Live Music - Lynsey's Lounge
DESCRIPTION:
URL:https://igwinery.com/event/live-music-lynseys-lounge-2/
LOCATION:UT
END:VEVENT
BEGIN:VEVENT
DTSTART;TZID=America/Denver:20240802T170000
DTEND;TZID=America/Denver:20240802T200000
DTSTAMP:20260420T225216
CREATED:20240524T051408Z
LAST-MODIFIED:20240729T212957Z
UID:5399-1722618000-1722628800@igwinery.com
SUMMARY:Live Music - Art Kaufman
DESCRIPTION:
URL:https://igwinery.com/event/live-music-art-kaufman-4/
LOCATION:UT
END:VEVENT
BEGIN:VEVENT
DTSTART;TZID=America/Denver:20240801T180000
DTEND;TZID=America/Denver:20240801T200000
DTSTAMP:20260420T225216
CREATED:20240718T224914Z
LAST-MODIFIED:20240729T212803Z
UID:5523-1722535200-1722542400@igwinery.com
SUMMARY:Cocktail Class - Classic Cocktails With A Twist
DESCRIPTION:
URL:https://igwinery.com/event/cocktail-class-classic-cocktails-with-a-twist/
LOCATION:UT
END:VEVENT
BEGIN:VEVENT
DTSTART;TZID=America/Denver:20240727T190000
DTEND;TZID=America/Denver:20240727T220000
DTSTAMP:20260420T225216
CREATED:20210326T183734Z
LAST-MODIFIED:20240716T001441Z
UID:3066-1722106800-1722117600@igwinery.com
SUMMARY:Live Music - Jon Yerby
DESCRIPTION:Born in Celle\, Germany\, Dr. Jon Paul Yerby has performed across four continents and served on the faculty of five major Universities. Most recently\, Yerby and his wife Alexandra accepted positions at Southern Utah University in Cedar City\, Utah\, starting fall of 2019. Jon’ teachers and mentors include such luminaries as Eliot Fisk\, Oscar Ghiglia\, John Gibbons\, Tom Johnson\, Adam Holzman\, and Bruce Holzman. Dr. Yerby holds degrees in Classical Guitar Performance from The University of Texas at Austin (B.M.)\, New England Conservatory (M.M.)\, and Florida State University (D.M.A). \nAn acclaimed recitalist and chamber musician\, Jon has performed with the Park City Beethoven Festival\, ICPNA International Guitar Festival in Peru\, The Utah Opera\, and tours annually throughout the United States and Europe. He has also served as a guest artist at the University of Wittenberg-Halle in Leipzig\, Germany. \nJon also collaborates with dance artist Alexandra Bradshaw Yerby as the duo ‘7&1\,’ creating original pieces featuring contemporary dance with live guitar. In February\, 2017\, Yerby was commissioned to perform the Bach Chaconne as part of a solo dance piece with New York’s famed Limón Dance Company. Yerby is currently working on his first documentary film score for the film Love Evolved\, a feature length documentary film portraying the scientific quest to understand inner peace\, by Dr. Steven Pierce\, MD. Yerby most recently joined the faculty at Southern Utah University in Cedar City. \n“It’s a pleasure to write in support of Jon Yerby\, a fine guitarist of taste and refinement who possesses one of the world’s most beautiful natural guitar sounds. I wish this young artist of the guitar the great continued success he so richly deserves.” – Eliot Fisk
URL:https://igwinery.com/event/jon-yerby/
LOCATION:I/G Winery\, 59 West Center Street\, Cedar City\, UT\, 84720\, United States
CATEGORIES:Live Music
END:VEVENT
BEGIN:VEVENT
DTSTART;TZID=America/Denver:20240720T190000
DTEND;TZID=America/Denver:20240720T220000
DTSTAMP:20260420T225216
CREATED:20240524T045913Z
LAST-MODIFIED:20240716T001917Z
UID:5397-1721502000-1721512800@igwinery.com
SUMMARY:Live Music - Dylan Gavin
DESCRIPTION:Stylistically\, Dylan fuses a 2000’s acoustic guitar sound with a warm alternative vibe to create his own unique niche. As a singer-songwriter\, he has performed at hundreds of local events garnering a robust following here in Southern Utah.
URL:https://igwinery.com/event/live-music-dylan-gavin-2/
LOCATION:UT
END:VEVENT
BEGIN:VEVENT
DTSTART;TZID=America/Denver:20240720T180000
DTEND;TZID=America/Denver:20240720T230000
DTSTAMP:20260420T225216
CREATED:20240705T032024Z
LAST-MODIFIED:20240716T011738Z
UID:5488-1721498400-1721516400@igwinery.com
SUMMARY:Remodel Celebration
DESCRIPTION:Come join us tonight as we officially celebrate the completion of our most recent remodeling.  If you haven’t already seen the changes\, come in and check out the new wine bar\, artwork\, lighting\, extra seating capacity and all the new furnishings.  While you’re here\, try one of our cocktail specials created just for tonight’s celebration and enjoy them as you listen to the smooth sounds of Dylan Gavin\, live in our tasting room.
URL:https://igwinery.com/event/remodel-celebration/
LOCATION:I/G Winery\, 59 West Center Street\, Cedar City\, UT\, 84720\, United States
END:VEVENT
BEGIN:VEVENT
DTSTART;TZID=America/Denver:20240712T170000
DTEND;TZID=America/Denver:20240712T200000
DTSTAMP:20260420T225216
CREATED:20240524T045710Z
LAST-MODIFIED:20240524T045710Z
UID:5395-1720803600-1720814400@igwinery.com
SUMMARY:Live Music - Art Kaufman
DESCRIPTION:Art Kaufman (aka David Fox) is a vocalist\, pianist and guitarist of various musical styles. He is also owner of Magic Key Productions and composer of international acclaim with film\, TV and stage credits to his name. For more info go to www.redrockrecords.com
URL:https://igwinery.com/event/live-music-art-kaufman-3/
LOCATION:UT
END:VEVENT
BEGIN:VEVENT
DTSTART;TZID=America/Denver:20240706T180000
DTEND;TZID=America/Denver:20240706T210000
DTSTAMP:20260420T225216
CREATED:20240620T165942Z
LAST-MODIFIED:20240620T165942Z
UID:5451-1720288800-1720299600@igwinery.com
SUMMARY:New Artwork Release Party - July 6th
DESCRIPTION:Come to the winery Saturday Night\, July 6th at 6pm for the grand unveiling of I/G Winery’s newest painting.  We are already known as the place of great art by local artists\, so you’ll want to come and be a part of the big reveal as we celebrate the installation of our newest painting called “Spill the Wine” by Utah/Nevada artist Niki J. Sands.  Best of all\, Niki will be on hand to sign custom labeled bottles of a special release white wine featuring this painting on the label.  Buy a bottle and get the artist to sign the label and you will be the envy of the neighborhood.  Join us at 6 for the reveal or anytime until 9pm to get an artist signed bottle.  We look forward to seeing you here.
URL:https://igwinery.com/event/new-artwork-release-party-july-6th/
LOCATION:I/G Winery\, 59 West Center Street\, Cedar City\, UT\, 84720\, United States
END:VEVENT
BEGIN:VEVENT
DTSTART;TZID=America/Denver:20240706T180000
DTEND;TZID=America/Denver:20240706T210000
DTSTAMP:20260420T225216
CREATED:20240524T045424Z
LAST-MODIFIED:20240524T045424Z
UID:5393-1720288800-1720299600@igwinery.com
SUMMARY:Live Music - Jackson Republic
DESCRIPTION:Jackson Republic is an Americana Singer/Songwriter with deep Texas roots. Jackson released his self titled debut EP in late 2020 with the help of the Coletrains in their southern Arizona studio.
URL:https://igwinery.com/event/live-music-jackson-republic-2/
LOCATION:UT
END:VEVENT
BEGIN:VEVENT
DTSTART;TZID=America/Denver:20240705T180000
DTEND;TZID=America/Denver:20240705T200000
DTSTAMP:20260420T225216
CREATED:20240620T162031Z
LAST-MODIFIED:20240620T162031Z
UID:5446-1720202400-1720209600@igwinery.com
SUMMARY:Sangria Class July 5th
DESCRIPTION:Come to the winery on Friday July 5th and join Michelle\, our Sangria expert\, as she offers a class on how to make the world’s greatest Sangria’s.  Summer is here and you’re sure to need some good Sangria recipes for all those picnics and BBQ events so come learn to make 3 different Sangria’s 
URL:https://igwinery.com/event/sangria-class-july-5th/
LOCATION:I/G Winery\, 59 West Center Street\, Cedar City\, UT\, 84720\, United States
END:VEVENT
BEGIN:VEVENT
DTSTART;TZID=America/Denver:20240703T180000
DTEND;TZID=America/Denver:20240703T200000
DTSTAMP:20260420T225216
CREATED:20240524T225222Z
LAST-MODIFIED:20240524T225222Z
UID:5407-1720029600-1720036800@igwinery.com
SUMMARY:Let's Paint - Rustic Flag
DESCRIPTION:Let’s Paint “Rustic Flag” painting or create your own! All supplies are provided. Take home your 9×12 watercolor masterpiece. Ages 21 and up only. No experience necessary. ALL SALES FINAL. WE DO NOT ISSUE REFUNDS. We must be notified 48 hours in advance to issue a class credit. NO EXCEPTIONS as our venues have limited seating & high demand\, and it is not feasible for us to sell a “no show” seat in a timely manner. See you there!
URL:https://igwinery.com/event/lets-paint-rustic-flag/
LOCATION:UT
END:VEVENT
BEGIN:VEVENT
DTSTART;TZID=America/Denver:20240629T183000
DTEND;TZID=America/Denver:20240629T203000
DTSTAMP:20260420T225216
CREATED:20240524T045006Z
LAST-MODIFIED:20240524T045006Z
UID:5390-1719685800-1719693000@igwinery.com
SUMMARY:Live Music - Lynsey's Lounge
DESCRIPTION:At the age of 12\, Lynsey started singing in front of a live audience at the very church that the owners of IG winery used to attend.  She fell in love with being on stage from that moment on. She trained classically in high school winning her first place standings and awards in various competitions.\n\nFast forward to her 20’s\, Lynsey branched out as a lead singer and backup singer to a couple traveling bands for pop and mainstream music. She landed herself on a cruise ship performing across the Caribbean. She also loves to record a good radio jingle!\n\nBack to classical\, Lynsey went back and finished her bachelors degree in vocal performance at Miami University of Oxford\, Ohio. Earning a full ride for her talents\, she decided to go professional. She landed a contract with Cincinnati Opera as an ensemble member for 4 years\, and then ventured to San Diego Opera where she has since concluded her 8 year contract as a tenured artist. Lynsey has performed in over 30 Grand Opera performances.\n\nSince then\, Lynsey\, her hubs and 2 kiddos have moved to Utah. She wanted to once again sing for the people. She sings to us a set full of love songs\, acoustic pop and\, of course\, those croony jazz oldies that we love.
URL:https://igwinery.com/event/live-music-lynseys-lounge/
LOCATION:UT
END:VEVENT
BEGIN:VEVENT
DTSTART;TZID=America/Denver:20240629T180000
DTEND;TZID=America/Denver:20240629T180000
DTSTAMP:20260420T225216
CREATED:20240610T195705Z
LAST-MODIFIED:20240617T230927Z
UID:5413-1719684000-1719684000@igwinery.com
SUMMARY:Chef's Table Dinner and Wine
DESCRIPTION:
URL:https://igwinery.com/event/chefs-table-dinner-and-wine/
LOCATION:Courtyard by Marriott\, 1294 South Interstate Drive\, Cedar City\, UT\, 84720\, United States
CATEGORIES:Food and Wine
END:VEVENT
BEGIN:VEVENT
DTSTART;TZID=America/Denver:20240621T190000
DTEND;TZID=America/Denver:20240621T220000
DTSTAMP:20260420T225216
CREATED:20240523T225843Z
LAST-MODIFIED:20240523T234111Z
UID:5384-1718996400-1719007200@igwinery.com
SUMMARY:Live Music - Dylan Gavin
DESCRIPTION:Stylistically\, Dylan fuses a 2000’s acoustic guitar sound with a warm alternative vibe to create his own unique niche. As a singer-songwriter\, he has performed at hundreds of local events garnering a robust following here in Southern Utah.
URL:https://igwinery.com/event/live-music-dylan-gavin/
LOCATION:UT
END:VEVENT
BEGIN:VEVENT
DTSTART;TZID=America/Denver:20240614T170000
DTEND;TZID=America/Denver:20240614T200000
DTSTAMP:20260420T225216
CREATED:20240523T223812Z
LAST-MODIFIED:20240523T223812Z
UID:5382-1718384400-1718395200@igwinery.com
SUMMARY:Live Music - Art Kaufman
DESCRIPTION:Art Kaufman (aka David Fox) is a vocalist\, pianist and guitarist of various musical styles. He is also owner of Magic Key Productions and composer of international acclaim with film\, TV and stage credits to his name. For more info go to www.redrockrecords.com
URL:https://igwinery.com/event/live-music-art-kaufman-2/
LOCATION:UT
END:VEVENT
BEGIN:VEVENT
DTSTART;TZID=America/Denver:20240605T180000
DTEND;TZID=America/Denver:20240605T200000
DTSTAMP:20260420T225216
CREATED:20230404T174930Z
LAST-MODIFIED:20240524T224824Z
UID:4126-1717610400-1717617600@igwinery.com
SUMMARY:Let's Paint - Desert Cactus
DESCRIPTION:Let’s Paint “Desert Cactus” painting or create your own! All supplies are provided. Take home your 9×12 watercolor masterpiece. Ages 21 and up only. No experience necessary. ALL SALES FINAL. WE DO NOT ISSUE REFUNDS. We must be notified 48 hours in advance to issue a class credit. NO EXCEPTIONS as our venues have limited seating & high demand\, and it is not feasible for us to sell a “no show” seat in a timely manner. See you there!
URL:https://igwinery.com/event/lets-paint/
LOCATION:I/G Winery\, 59 West Center Street\, Cedar City\, UT\, 84720\, United States
CATEGORIES:Paint Night
END:VEVENT
BEGIN:VEVENT
DTSTART;TZID=America/Denver:20240531T170000
DTEND;TZID=America/Denver:20240531T200000
DTSTAMP:20260420T225216
CREATED:20221229T200852Z
LAST-MODIFIED:20240523T222159Z
UID:3930-1717174800-1717185600@igwinery.com
SUMMARY:Live Music - Art Kaufman
DESCRIPTION:Art Kaufman (aka David Fox) is a vocalist\, pianist and guitarist of various musical styles. He is also owner of Magic Key Productions and composer of international acclaim with film\, TV and stage credits to his name. For more info go to www.redrockrecords.com
URL:https://igwinery.com/event/live-music-art-kaufman/
LOCATION:I/G Winery\, 59 West Center Street\, Cedar City\, UT\, 84720\, United States
END:VEVENT
BEGIN:VEVENT
DTSTART;TZID=America/Denver:20240525T183000
DTEND;TZID=America/Denver:20240525T213000
DTSTAMP:20260420T225216
CREATED:20211104T171229Z
LAST-MODIFIED:20240523T222024Z
UID:3357-1716661800-1716672600@igwinery.com
SUMMARY:Live Music - Lynsey's Lounge
DESCRIPTION:At the age of 12\, Lynsey started singing in front of a live audience at the very church that the owners of IG winery used to attend.  She fell in love with being on stage from that moment on. She trained classically in high school winning her first place standings and awards in various competitions.\n\nFast forward to her 20’s\, Lynsey branched out as a lead singer and backup singer to a couple traveling bands for pop and mainstream music. She landed herself on a cruise ship performing across the Caribbean. She also loves to record a good radio jingle!\n\nBack to classical\, Lynsey went back and finished her bachelors degree in vocal performance at Miami University of Oxford\, Ohio. Earning a full ride for her talents\, she decided to go professional. She landed a contract with Cincinnati Opera as an ensemble member for 4 years\, and then ventured to San Diego Opera where she has since concluded her 8 year contract as a tenured artist. Lynsey has performed in over 30 Grand Opera performances.\n\nSince then\, Lynsey\, her hubs and 2 kiddos have moved to Utah. She wanted to once again sing for the people. She sings to us a set full of love songs\, acoustic pop and\, of course\, those croony jazz oldies that we love.
URL:https://igwinery.com/event/live-music-lynsey-live-3/
LOCATION:I/G Winery\, 59 West Center Street\, Cedar City\, UT\, 84720\, United States
CATEGORIES:Live Music
END:VEVENT
BEGIN:VEVENT
DTSTART;TZID=America/Denver:20240504T070000
DTEND;TZID=America/Denver:20240504T220000
DTSTAMP:20260420T225216
CREATED:20240502T224953Z
LAST-MODIFIED:20240502T225421Z
UID:5363-1714806000-1714860000@igwinery.com
SUMMARY:Live Music - Lainy Gates Tonight
DESCRIPTION:Lainy Gates was raised in Nashville\, TN with music at the center of her home. Between having a father in the music industry and the potent magic of Music City\, she learned from a young age that music is her most effective creative and emotional outlet. Though she has no plans of pursuing music professionally\, she loves to write songs and sing for folks as often as she can.
URL:https://igwinery.com/event/live-music-lainy-gates-tonight/
LOCATION:UT
CATEGORIES:Live Music
END:VEVENT
END:VCALENDAR