BEGIN:VCALENDAR
VERSION:2.0
PRODID:-//I/G Winery - ECPv6.15.20//NONSGML v1.0//EN
CALSCALE:GREGORIAN
METHOD:PUBLISH
X-WR-CALNAME:I/G Winery
X-ORIGINAL-URL:https://igwinery.com
X-WR-CALDESC:Events for I/G Winery
REFRESH-INTERVAL;VALUE=DURATION:PT1H
X-Robots-Tag:noindex
X-PUBLISHED-TTL:PT1H
BEGIN:VTIMEZONE
TZID:America/Denver
BEGIN:DAYLIGHT
TZOFFSETFROM:-0700
TZOFFSETTO:-0600
TZNAME:MDT
DTSTART:20230312T090000
END:DAYLIGHT
BEGIN:STANDARD
TZOFFSETFROM:-0600
TZOFFSETTO:-0700
TZNAME:MST
DTSTART:20231105T080000
END:STANDARD
BEGIN:DAYLIGHT
TZOFFSETFROM:-0700
TZOFFSETTO:-0600
TZNAME:MDT
DTSTART:20240310T090000
END:DAYLIGHT
BEGIN:STANDARD
TZOFFSETFROM:-0600
TZOFFSETTO:-0700
TZNAME:MST
DTSTART:20241103T080000
END:STANDARD
BEGIN:DAYLIGHT
TZOFFSETFROM:-0700
TZOFFSETTO:-0600
TZNAME:MDT
DTSTART:20250309T090000
END:DAYLIGHT
BEGIN:STANDARD
TZOFFSETFROM:-0600
TZOFFSETTO:-0700
TZNAME:MST
DTSTART:20251102T080000
END:STANDARD
END:VTIMEZONE
BEGIN:VEVENT
DTSTART;TZID=America/Denver:20240214T190000
DTEND;TZID=America/Denver:20240214T210000
DTSTAMP:20260422T023228
CREATED:20240124T234928Z
LAST-MODIFIED:20240125T000112Z
UID:5109-1707937200-1707944400@igwinery.com
SUMMARY:Valentines Day Wine Pairing Dinner with the Courtyard by Marriott
DESCRIPTION:Make your Valentine’s Day extra special by spending it with I/G Winery and The Courtyard by Marriott! We are featuring three delectable menus coupled with exquisite wine pairings for whichever menu you choose—trust us\, there isn’t a wrong choice! This is sure to be a valentines for the books. To make sure this Valentine’s Day is unforgettable\, purchase your tickets for this event held at the Courtyard by Marriott in Cedar City today! \nDue to Utah State Law\, the wine pairing portion of this event is NOT included in the ticket price\, and will be an additional cost on the night of the event.
URL:https://igwinery.com/event/valentines2024/
LOCATION:Courtyard by Marriott\, 1294 South Interstate Drive\, Cedar City\, UT\, 84720\, United States
CATEGORIES:Food and Wine
END:VEVENT
END:VCALENDAR