BEGIN:VCALENDAR
VERSION:2.0
PRODID:-//I/G Winery - ECPv6.15.20//NONSGML v1.0//EN
CALSCALE:GREGORIAN
METHOD:PUBLISH
X-WR-CALNAME:I/G Winery
X-ORIGINAL-URL:https://igwinery.com
X-WR-CALDESC:Events for I/G Winery
REFRESH-INTERVAL;VALUE=DURATION:PT1H
X-Robots-Tag:noindex
X-PUBLISHED-TTL:PT1H
BEGIN:VTIMEZONE
TZID:America/Denver
BEGIN:DAYLIGHT
TZOFFSETFROM:-0700
TZOFFSETTO:-0600
TZNAME:MDT
DTSTART:20220313T090000
END:DAYLIGHT
BEGIN:STANDARD
TZOFFSETFROM:-0600
TZOFFSETTO:-0700
TZNAME:MST
DTSTART:20221106T080000
END:STANDARD
BEGIN:DAYLIGHT
TZOFFSETFROM:-0700
TZOFFSETTO:-0600
TZNAME:MDT
DTSTART:20230312T090000
END:DAYLIGHT
BEGIN:STANDARD
TZOFFSETFROM:-0600
TZOFFSETTO:-0700
TZNAME:MST
DTSTART:20231105T080000
END:STANDARD
BEGIN:DAYLIGHT
TZOFFSETFROM:-0700
TZOFFSETTO:-0600
TZNAME:MDT
DTSTART:20240310T090000
END:DAYLIGHT
BEGIN:STANDARD
TZOFFSETFROM:-0600
TZOFFSETTO:-0700
TZNAME:MST
DTSTART:20241103T080000
END:STANDARD
END:VTIMEZONE
BEGIN:VEVENT
DTSTART;TZID=America/Denver:20230903T110000
DTEND;TZID=America/Denver:20230903T130000
DTSTAMP:20260420T153545
CREATED:20230622T192555Z
LAST-MODIFIED:20230622T192555Z
UID:4364-1693738800-1693746000@igwinery.com
SUMMARY:Utah Wine Festival - Viticulture and Vino
DESCRIPTION:Southern Utah’s newest vineyard\, called Mindira\, is located on the banks of the Virgin River\, in Rockville\, just outside Zion National Park.  It is being planted now\, but we want you to be a part of the vineyards legacy. Everyone at this event will have a chance to plant a vine in the last row to be planted as you learn a little about the varietal you’re planting\, and of course\, try some wine made from that varietal.   Once that is done\, we will all celebrate the completion of the vineyard with wine\, small bites and live music.
URL:https://igwinery.com/event/utah-wine-festival-viticulture-and-vino/
LOCATION:Mindira Vineyard\, 276 Grafton Road\, Rockville\, UT\, 84763\, United States
ORGANIZER;CN="Utah Wine Festival":MAILTO:info@utahwinefest.com
END:VEVENT
END:VCALENDAR