BEGIN:VCALENDAR
VERSION:2.0
PRODID:-//I/G Winery - ECPv6.15.20//NONSGML v1.0//EN
CALSCALE:GREGORIAN
METHOD:PUBLISH
X-WR-CALNAME:I/G Winery
X-ORIGINAL-URL:https://igwinery.com
X-WR-CALDESC:Events for I/G Winery
REFRESH-INTERVAL;VALUE=DURATION:PT1H
X-Robots-Tag:noindex
X-PUBLISHED-TTL:PT1H
BEGIN:VTIMEZONE
TZID:America/Denver
BEGIN:DAYLIGHT
TZOFFSETFROM:-0700
TZOFFSETTO:-0600
TZNAME:MDT
DTSTART:20200308T090000
END:DAYLIGHT
BEGIN:STANDARD
TZOFFSETFROM:-0600
TZOFFSETTO:-0700
TZNAME:MST
DTSTART:20201101T080000
END:STANDARD
BEGIN:DAYLIGHT
TZOFFSETFROM:-0700
TZOFFSETTO:-0600
TZNAME:MDT
DTSTART:20210314T090000
END:DAYLIGHT
BEGIN:STANDARD
TZOFFSETFROM:-0600
TZOFFSETTO:-0700
TZNAME:MST
DTSTART:20211107T080000
END:STANDARD
BEGIN:DAYLIGHT
TZOFFSETFROM:-0700
TZOFFSETTO:-0600
TZNAME:MDT
DTSTART:20220313T090000
END:DAYLIGHT
BEGIN:STANDARD
TZOFFSETFROM:-0600
TZOFFSETTO:-0700
TZNAME:MST
DTSTART:20221106T080000
END:STANDARD
END:VTIMEZONE
BEGIN:VEVENT
DTSTART;TZID=America/Denver:20211029T180000
DTEND;TZID=America/Denver:20211029T230000
DTSTAMP:20260421T093942
CREATED:20211020T223411Z
LAST-MODIFIED:20211020T223411Z
UID:3350-1635530400-1635548400@igwinery.com
SUMMARY:The Nightcap Before Christmas
DESCRIPTION:The Nightcap Before Christmas \n“What’s this? What’s this? There’s cocktails everywhere! What’s this? There is wine pouring through the air! What’s this?” No\, you’re not dreaming—The Nightcap Before Christmas is coming to I/G Winery! Join us October 29th 6pm-11pm or October 30th 6pm-11pm for a weekend of exclusive specialty cocktails\, enchanting entertainment\, and spooky company as we celebrate Halloween 2021!\n\nThere is no cover charge for this event.\n\nCostumes are welcomed!
URL:https://igwinery.com/event/the-nightcap-before-christmas/
LOCATION:I/G Winery\, 59 West Center Street\, Cedar City\, UT\, 84720\, United States
END:VEVENT
END:VCALENDAR