BEGIN:VCALENDAR
VERSION:2.0
PRODID:-//I/G Winery - ECPv6.15.20//NONSGML v1.0//EN
CALSCALE:GREGORIAN
METHOD:PUBLISH
X-WR-CALNAME:I/G Winery
X-ORIGINAL-URL:https://igwinery.com
X-WR-CALDESC:Events for I/G Winery
REFRESH-INTERVAL;VALUE=DURATION:PT1H
X-Robots-Tag:noindex
X-PUBLISHED-TTL:PT1H
BEGIN:VTIMEZONE
TZID:America/Denver
BEGIN:DAYLIGHT
TZOFFSETFROM:-0700
TZOFFSETTO:-0600
TZNAME:MDT
DTSTART:20200308T090000
END:DAYLIGHT
BEGIN:STANDARD
TZOFFSETFROM:-0600
TZOFFSETTO:-0700
TZNAME:MST
DTSTART:20201101T080000
END:STANDARD
BEGIN:DAYLIGHT
TZOFFSETFROM:-0700
TZOFFSETTO:-0600
TZNAME:MDT
DTSTART:20210314T090000
END:DAYLIGHT
BEGIN:STANDARD
TZOFFSETFROM:-0600
TZOFFSETTO:-0700
TZNAME:MST
DTSTART:20211107T080000
END:STANDARD
BEGIN:DAYLIGHT
TZOFFSETFROM:-0700
TZOFFSETTO:-0600
TZNAME:MDT
DTSTART:20220313T090000
END:DAYLIGHT
BEGIN:STANDARD
TZOFFSETFROM:-0600
TZOFFSETTO:-0700
TZNAME:MST
DTSTART:20221106T080000
END:STANDARD
END:VTIMEZONE
BEGIN:VEVENT
DTSTART;TZID=America/Denver:20211121T180000
DTEND;TZID=America/Denver:20211121T200000
DTSTAMP:20260421T081020
CREATED:20211109T204400Z
LAST-MODIFIED:20211110T234939Z
UID:3370-1637517600-1637524800@igwinery.com
SUMMARY:Thanksgiving Mixer
DESCRIPTION:Join us Sunday\, November 21st at 6 PM\, as we enjoy beautiful wine\, great company\, and delectable small plates created by the amazingly talented Chef Jackie Dodart. Throughout the evening\, you will get to enjoy the perfect plates paired with your favorite I/G wines to get you into the holiday mood: butternut squash soup with toasted hazelnuts\, turkey sliders with fresh-made cranberry spread\, finishing off with your culinary experience with dates\, mascarpone\, oranges and caramel syrup. \nChef Jackie Dodart has always loved to cook. She’s not sure if it all started with the gift of an Easy Bake Oven\, or if it’s the fact it runs in her genes: her mother and grandmother were both excellent cooks and loved creating enjoyable meals. Whether it runs in her blood or she acquired it at a young age\, her desire to master culinary skills was very strong\, and so she decided to make it her career. A graduate of The Culinary Art Institute of Las Vegas\, Chef Jackie has also attended culinary classes and schools throughout the world\, learning how to create the foods and specialty dishes specific to regions and cultures. She finds great satisfaction in sharing what she has learned throughout her culinary journey\, and teaching the concepts that her education and worldwide travel have provided her. \nIn accordance with Utah State Law\, alcohol may not be pre-purchased. Because of this\, wine will be a separate charge of $25 at the event. \nTickets may be purchased online or by calling (435) TOP-WINE.
URL:https://igwinery.com/event/thanksgiving-mixer/
LOCATION:I/G Winery\, 59 West Center Street\, Cedar City\, UT\, 84720\, United States
CATEGORIES:Food and Wine
END:VEVENT
END:VCALENDAR