BEGIN:VCALENDAR
VERSION:2.0
PRODID:-//I/G Winery - ECPv6.15.20//NONSGML v1.0//EN
CALSCALE:GREGORIAN
METHOD:PUBLISH
X-WR-CALNAME:I/G Winery
X-ORIGINAL-URL:https://igwinery.com
X-WR-CALDESC:Events for I/G Winery
REFRESH-INTERVAL;VALUE=DURATION:PT1H
X-Robots-Tag:noindex
X-PUBLISHED-TTL:PT1H
BEGIN:VTIMEZONE
TZID:America/Denver
BEGIN:DAYLIGHT
TZOFFSETFROM:-0700
TZOFFSETTO:-0600
TZNAME:MDT
DTSTART:20230312T090000
END:DAYLIGHT
BEGIN:STANDARD
TZOFFSETFROM:-0600
TZOFFSETTO:-0700
TZNAME:MST
DTSTART:20231105T080000
END:STANDARD
BEGIN:DAYLIGHT
TZOFFSETFROM:-0700
TZOFFSETTO:-0600
TZNAME:MDT
DTSTART:20240310T090000
END:DAYLIGHT
BEGIN:STANDARD
TZOFFSETFROM:-0600
TZOFFSETTO:-0700
TZNAME:MST
DTSTART:20241103T080000
END:STANDARD
BEGIN:DAYLIGHT
TZOFFSETFROM:-0700
TZOFFSETTO:-0600
TZNAME:MDT
DTSTART:20250309T090000
END:DAYLIGHT
BEGIN:STANDARD
TZOFFSETFROM:-0600
TZOFFSETTO:-0700
TZNAME:MST
DTSTART:20251102T080000
END:STANDARD
END:VTIMEZONE
BEGIN:VEVENT
DTSTART;TZID=America/Denver:20241102T150000
DTEND;TZID=America/Denver:20241102T170000
DTSTAMP:20260425T190941
CREATED:20241004T210737Z
LAST-MODIFIED:20241004T210737Z
UID:5665-1730559600-1730566800@igwinery.com
SUMMARY:Michelle's Holiday Cocktail Class
DESCRIPTION:Join Michelle\, your favorite mixologist\, as she teaches you how to create 3 exquisite holiday cocktails.  These classes are always fun\, hands-on learning\, and you will leave knowing how to impress your friends and family with your cocktail skills. You’ll make a Pomegranate Drop\, Egg Nog for Santa and a Cranberry Ginger Fizz. Get your tickets today.
URL:https://igwinery.com/event/michelles-holiday-cocktail-class/
END:VEVENT
END:VCALENDAR