BEGIN:VCALENDAR
VERSION:2.0
PRODID:-//I/G Winery - ECPv6.15.20//NONSGML v1.0//EN
CALSCALE:GREGORIAN
METHOD:PUBLISH
X-WR-CALNAME:I/G Winery
X-ORIGINAL-URL:https://igwinery.com
X-WR-CALDESC:Events for I/G Winery
REFRESH-INTERVAL;VALUE=DURATION:PT1H
X-Robots-Tag:noindex
X-PUBLISHED-TTL:PT1H
BEGIN:VTIMEZONE
TZID:America/Denver
BEGIN:DAYLIGHT
TZOFFSETFROM:-0700
TZOFFSETTO:-0600
TZNAME:MDT
DTSTART:20250309T090000
END:DAYLIGHT
BEGIN:STANDARD
TZOFFSETFROM:-0600
TZOFFSETTO:-0700
TZNAME:MST
DTSTART:20251102T080000
END:STANDARD
BEGIN:DAYLIGHT
TZOFFSETFROM:-0700
TZOFFSETTO:-0600
TZNAME:MDT
DTSTART:20260308T090000
END:DAYLIGHT
BEGIN:STANDARD
TZOFFSETFROM:-0600
TZOFFSETTO:-0700
TZNAME:MST
DTSTART:20261101T080000
END:STANDARD
BEGIN:DAYLIGHT
TZOFFSETFROM:-0700
TZOFFSETTO:-0600
TZNAME:MDT
DTSTART:20270314T090000
END:DAYLIGHT
BEGIN:STANDARD
TZOFFSETFROM:-0600
TZOFFSETTO:-0700
TZNAME:MST
DTSTART:20271107T080000
END:STANDARD
END:VTIMEZONE
BEGIN:VEVENT
DTSTART;TZID=America/Denver:20260117T190000
DTEND;TZID=America/Denver:20260117T220000
DTSTAMP:20260422T114607
CREATED:20250619T222149Z
LAST-MODIFIED:20260102T004438Z
UID:6438-1768676400-1768687200@igwinery.com
SUMMARY:Live Music - Sky Allen
DESCRIPTION:Sky Allen Ledesma is an American songwriter with music that ranges from acoustic singer songwriter\, neo soul\, reggae\, blues\, rock\, etc. With influences like Van Morrison\, Paul Simon\, Sublime\, Bill Withers\, and Bob Marley to name a few. Sky has been playing music all over the nation for almost 20 years. Currently residing in Southern Utah\, Sky plays everything from looping to make a full band sound\, or a quiet acoustic set.  Come join us for a night you’re sure to enjoy.
URL:https://igwinery.com/event/live-music-sky-allen/
LOCATION:I/G Winery\, 59 West Center Street\, Cedar City\, UT\, 84720\, United States
CATEGORIES:Live Music
ATTACH;FMTTYPE=image/png:https://igwinery.com/wp-content/uploads/SKY-ALLEN-.png
ORGANIZER;CN="I/G Entertainment Production":MAILTO:info@igwinery.com
END:VEVENT
END:VCALENDAR