BEGIN:VCALENDAR
VERSION:2.0
PRODID:-//I/G Winery - ECPv6.15.20//NONSGML v1.0//EN
CALSCALE:GREGORIAN
METHOD:PUBLISH
X-WR-CALNAME:I/G Winery
X-ORIGINAL-URL:https://igwinery.com
X-WR-CALDESC:Events for I/G Winery
REFRESH-INTERVAL;VALUE=DURATION:PT1H
X-Robots-Tag:noindex
X-PUBLISHED-TTL:PT1H
BEGIN:VTIMEZONE
TZID:America/Denver
BEGIN:DAYLIGHT
TZOFFSETFROM:-0700
TZOFFSETTO:-0600
TZNAME:MDT
DTSTART:20240310T090000
END:DAYLIGHT
BEGIN:STANDARD
TZOFFSETFROM:-0600
TZOFFSETTO:-0700
TZNAME:MST
DTSTART:20241103T080000
END:STANDARD
BEGIN:DAYLIGHT
TZOFFSETFROM:-0700
TZOFFSETTO:-0600
TZNAME:MDT
DTSTART:20250309T090000
END:DAYLIGHT
BEGIN:STANDARD
TZOFFSETFROM:-0600
TZOFFSETTO:-0700
TZNAME:MST
DTSTART:20251102T080000
END:STANDARD
BEGIN:DAYLIGHT
TZOFFSETFROM:-0700
TZOFFSETTO:-0600
TZNAME:MDT
DTSTART:20260308T090000
END:DAYLIGHT
BEGIN:STANDARD
TZOFFSETFROM:-0600
TZOFFSETTO:-0700
TZNAME:MST
DTSTART:20261101T080000
END:STANDARD
END:VTIMEZONE
BEGIN:VEVENT
DTSTART;TZID=America/Denver:20251213T190000
DTEND;TZID=America/Denver:20251213T220000
DTSTAMP:20260422T121528
CREATED:20251021T000447Z
LAST-MODIFIED:20251021T000447Z
UID:6630-1765652400-1765663200@igwinery.com
SUMMARY:Live Music - Mark Boggs
DESCRIPTION:Mark Boggs is a Southern Utah musician who preforms as both a solo artist and with a popular local band called The Relics; a quartet of veteran musicians performing an eclectic mix of classic rock\, blues\, soul and country. In his solo performances\, Mark stays true to that theme and brings to the winery solo versions of those same great genres.
URL:https://igwinery.com/event/live-music-mark-boggs-2/
LOCATION:I/G Winery\, 59 West Center Street\, Cedar City\, UT\, 84720\, United States
CATEGORIES:Live Music
ATTACH;FMTTYPE=image/png:https://igwinery.com/wp-content/uploads/Mark-Boggs-At-The-Winery-Dec.png
ORGANIZER;CN="I/G Entertainment Production":MAILTO:info@igwinery.com
END:VEVENT
END:VCALENDAR