BEGIN:VCALENDAR
VERSION:2.0
PRODID:-//I/G Winery - ECPv6.15.20//NONSGML v1.0//EN
CALSCALE:GREGORIAN
METHOD:PUBLISH
X-WR-CALNAME:I/G Winery
X-ORIGINAL-URL:https://igwinery.com
X-WR-CALDESC:Events for I/G Winery
REFRESH-INTERVAL;VALUE=DURATION:PT1H
X-Robots-Tag:noindex
X-PUBLISHED-TTL:PT1H
BEGIN:VTIMEZONE
TZID:America/Denver
BEGIN:DAYLIGHT
TZOFFSETFROM:-0700
TZOFFSETTO:-0600
TZNAME:MDT
DTSTART:20240310T090000
END:DAYLIGHT
BEGIN:STANDARD
TZOFFSETFROM:-0600
TZOFFSETTO:-0700
TZNAME:MST
DTSTART:20241103T080000
END:STANDARD
BEGIN:DAYLIGHT
TZOFFSETFROM:-0700
TZOFFSETTO:-0600
TZNAME:MDT
DTSTART:20250309T090000
END:DAYLIGHT
BEGIN:STANDARD
TZOFFSETFROM:-0600
TZOFFSETTO:-0700
TZNAME:MST
DTSTART:20251102T080000
END:STANDARD
BEGIN:DAYLIGHT
TZOFFSETFROM:-0700
TZOFFSETTO:-0600
TZNAME:MDT
DTSTART:20260308T090000
END:DAYLIGHT
BEGIN:STANDARD
TZOFFSETFROM:-0600
TZOFFSETTO:-0700
TZNAME:MST
DTSTART:20261101T080000
END:STANDARD
END:VTIMEZONE
BEGIN:VEVENT
DTSTART;TZID=America/Denver:20250407T190000
DTEND;TZID=America/Denver:20250407T220000
DTSTAMP:20260424T075334
CREATED:20250120T054739Z
LAST-MODIFIED:20250323T052511Z
UID:6211-1744052400-1744063200@igwinery.com
SUMMARY:I/G Confidential
DESCRIPTION:Join us for this very exclusive once monthly opportunity to up your cocktail game and indulge in a pinch of class.   Be sure you have your secret card and the password.  You can get them by stopping into the winery and asking a staff member.  When you arrive at the door of the speakeasy\, give the card and the password to the doorman (lest you be refused entry). If you pass the test\, you will be allowed in and shown a seat\, given the secret rules\, and an invitation to relax and let us custom curate the perfect cocktail just for you.
URL:https://igwinery.com/event/i-g-confidential-2/
LOCATION:I/G Winery\, 59 West Center Street\, Cedar City\, UT\, 84720\, United States
CATEGORIES:Speakeasy
ATTACH;FMTTYPE=image/png:https://igwinery.com/wp-content/uploads/Secret-Speakeasy.png
END:VEVENT
END:VCALENDAR