BEGIN:VCALENDAR
VERSION:2.0
PRODID:-//I/G Winery - ECPv6.15.20//NONSGML v1.0//EN
CALSCALE:GREGORIAN
METHOD:PUBLISH
X-WR-CALNAME:I/G Winery
X-ORIGINAL-URL:https://igwinery.com
X-WR-CALDESC:Events for I/G Winery
REFRESH-INTERVAL;VALUE=DURATION:PT1H
X-Robots-Tag:noindex
X-PUBLISHED-TTL:PT1H
BEGIN:VTIMEZONE
TZID:America/Denver
BEGIN:DAYLIGHT
TZOFFSETFROM:-0700
TZOFFSETTO:-0600
TZNAME:MDT
DTSTART:20250309T090000
END:DAYLIGHT
BEGIN:STANDARD
TZOFFSETFROM:-0600
TZOFFSETTO:-0700
TZNAME:MST
DTSTART:20251102T080000
END:STANDARD
BEGIN:DAYLIGHT
TZOFFSETFROM:-0700
TZOFFSETTO:-0600
TZNAME:MDT
DTSTART:20260308T090000
END:DAYLIGHT
BEGIN:STANDARD
TZOFFSETFROM:-0600
TZOFFSETTO:-0700
TZNAME:MST
DTSTART:20261101T080000
END:STANDARD
BEGIN:DAYLIGHT
TZOFFSETFROM:-0700
TZOFFSETTO:-0600
TZNAME:MDT
DTSTART:20270314T090000
END:DAYLIGHT
BEGIN:STANDARD
TZOFFSETFROM:-0600
TZOFFSETTO:-0700
TZNAME:MST
DTSTART:20271107T080000
END:STANDARD
END:VTIMEZONE
BEGIN:VEVENT
DTSTART;TZID=America/Denver:20260422T180000
DTEND;TZID=America/Denver:20260422T200000
DTSTAMP:20260420T042511
CREATED:20260414T001756Z
LAST-MODIFIED:20260414T001756Z
UID:7039-1776880800-1776888000@igwinery.com
SUMMARY:Mother's Day Cookie Decorating Class
DESCRIPTION:Bring your friends and enjoy a sweet evening decorating Mother’s day themed sugar cookies with Samantha from LoveCookiesBakery. Sip wine while learning beginner-friendly royal icing techniques as you decorate 6 festive cookies with step-by-step instruction. All supplies are included\, and you’ll take home your finished creations. \n📅 April 22 | 6–8 PM🎟️ Tickets available at lovecookiesbakery.com or by scanning the QR code on the flyer⚠️ Spots are limited!
URL:https://igwinery.com/event/https-www-lovecookiesbakery-com-cookie-decorating-classes-p-cookie-decorating-class-ig-winery-jl7nz-aa7p9-chly5/
LOCATION:I/G Winery\, 59 West Center Street\, Cedar City\, UT\, 84720\, United States
ATTACH;FMTTYPE=application/pdf:https://igwinery.com/wp-content/uploads/April-cookie-decorating.pdf
ORGANIZER;CN="Love Cookies":MAILTO:lovecookiesbakeshop@gmail.com
END:VEVENT
END:VCALENDAR