BEGIN:VCALENDAR
VERSION:2.0
PRODID:-//I/G Winery - ECPv6.15.20//NONSGML v1.0//EN
CALSCALE:GREGORIAN
METHOD:PUBLISH
X-WR-CALNAME:I/G Winery
X-ORIGINAL-URL:https://igwinery.com
X-WR-CALDESC:Events for I/G Winery
REFRESH-INTERVAL;VALUE=DURATION:PT1H
X-Robots-Tag:noindex
X-PUBLISHED-TTL:PT1H
BEGIN:VTIMEZONE
TZID:America/Denver
BEGIN:DAYLIGHT
TZOFFSETFROM:-0700
TZOFFSETTO:-0600
TZNAME:MDT
DTSTART:20210314T090000
END:DAYLIGHT
BEGIN:STANDARD
TZOFFSETFROM:-0600
TZOFFSETTO:-0700
TZNAME:MST
DTSTART:20211107T080000
END:STANDARD
BEGIN:DAYLIGHT
TZOFFSETFROM:-0700
TZOFFSETTO:-0600
TZNAME:MDT
DTSTART:20220313T090000
END:DAYLIGHT
BEGIN:STANDARD
TZOFFSETFROM:-0600
TZOFFSETTO:-0700
TZNAME:MST
DTSTART:20221106T080000
END:STANDARD
BEGIN:DAYLIGHT
TZOFFSETFROM:-0700
TZOFFSETTO:-0600
TZNAME:MDT
DTSTART:20230312T090000
END:DAYLIGHT
BEGIN:STANDARD
TZOFFSETFROM:-0600
TZOFFSETTO:-0700
TZNAME:MST
DTSTART:20231105T080000
END:STANDARD
END:VTIMEZONE
BEGIN:VEVENT
DTSTART;VALUE=DATE:20221202
DTEND;VALUE=DATE:20221203
DTSTAMP:20260420T122923
CREATED:20221109T215225Z
LAST-MODIFIED:20221109T215754Z
UID:3898-1669939200-1670025599@igwinery.com
SUMMARY:Holiday Tempest Release
DESCRIPTION:Our Holiday Tempest will return to our shelves starting December 2\, 2022\, and you’ll definitely want to make this delicious wine a staple in your glass throughout the holiday season! Specially aged in a rum barrel\, the Holiday Tempest is a blend of Petite Sirah\, Zinfandel\, and Viognier\, and is more full-bodied than our standard Tempest. With notes of raspberry\, sugar cane\, nutmeg\, and cinnamon\, we think it’s the perfect complement to a chilly winter night. Grab a bottle (or two) of this limited-production wine for the holidays before it’s gone!
URL:https://igwinery.com/event/holiday-tempest-release/
CATEGORIES:Wine Release
END:VEVENT
END:VCALENDAR